BEGIN:VCALENDAR
VERSION:2.0
PRODID:-//Boomerang - ECPv6.3.6//NONSGML v1.0//EN
CALSCALE:GREGORIAN
METHOD:PUBLISH
X-WR-CALNAME:Boomerang
X-ORIGINAL-URL:https://boomerangpoker.com.au
X-WR-CALDESC:Events for Boomerang
REFRESH-INTERVAL;VALUE=DURATION:PT1H
X-Robots-Tag:noindex
X-PUBLISHED-TTL:PT1H
BEGIN:VTIMEZONE
TZID:America/Los_Angeles
BEGIN:DAYLIGHT
TZOFFSETFROM:-0800
TZOFFSETTO:-0700
TZNAME:PDT
DTSTART:20280312T100000
END:DAYLIGHT
BEGIN:STANDARD
TZOFFSETFROM:-0700
TZOFFSETTO:-0800
TZNAME:PST
DTSTART:20281105T090000
END:STANDARD
END:VTIMEZONE
BEGIN:VEVENT
DTSTART;TZID=America/Los_Angeles:20280922T190000
DTEND;TZID=America/Los_Angeles:20280922T233000
DTSTAMP:20260423T132900
CREATED:20240212T112630Z
LAST-MODIFIED:20250520T075321Z
UID:10002599-1853262000-1853278200@boomerangpoker.com.au
SUMMARY:Friday Poker Game 1
DESCRIPTION:
URL:https://boomerangpoker.com.au/event/friday-poker/2028-09-22/
LOCATION:Banksia Hotel\, 288 Princess Hwy Banksia NSW\, Banksia\, Banksia\, NSW\, Australia
ATTACH;FMTTYPE=image/png:https://boomerangpoker.com.au/wp-content/uploads/2025/05/image008.png
END:VEVENT
BEGIN:VEVENT
DTSTART;TZID=America/Los_Angeles:20280922T203000
DTEND;TZID=America/Los_Angeles:20280922T233000
DTSTAMP:20260423T132900
CREATED:20250520T075436Z
LAST-MODIFIED:20250520T075436Z
UID:10006042-1853267400-1853278200@boomerangpoker.com.au
SUMMARY:Friday Poker Game 2
DESCRIPTION:
URL:https://boomerangpoker.com.au/event/friday-poker-game-2/2028-09-22/
LOCATION:Banksia Hotel\, 288 Princess Hwy Banksia NSW\, Banksia\, Banksia\, NSW\, Australia
ATTACH;FMTTYPE=image/png:https://boomerangpoker.com.au/wp-content/uploads/2025/05/image009.png
END:VEVENT
BEGIN:VEVENT
DTSTART;TZID=America/Los_Angeles:20280925T190000
DTEND;TZID=America/Los_Angeles:20280925T233000
DTSTAMP:20260423T132900
CREATED:20240212T112752Z
LAST-MODIFIED:20250520T074803Z
UID:10003648-1853521200-1853537400@boomerangpoker.com.au
SUMMARY:Monday Poker Game 1
DESCRIPTION:
URL:https://boomerangpoker.com.au/event/monday-poker/2028-09-25/
LOCATION:Banksia Hotel\, 288 Princess Hwy Banksia NSW\, Banksia\, Banksia\, NSW\, Australia
ATTACH;FMTTYPE=image/jpeg:https://boomerangpoker.com.au/wp-content/uploads/2025/05/image004.jpg
END:VEVENT
BEGIN:VEVENT
DTSTART;TZID=America/Los_Angeles:20280925T203000
DTEND;TZID=America/Los_Angeles:20280925T233000
DTSTAMP:20260423T132900
CREATED:20250520T073314Z
LAST-MODIFIED:20250520T074437Z
UID:10004626-1853526600-1853537400@boomerangpoker.com.au
SUMMARY:Monday Poker Game 2
DESCRIPTION:
URL:https://boomerangpoker.com.au/event/monday-poker-game-2/2028-09-25/
LOCATION:Banksia Hotel\, 288 Princess Hwy Banksia NSW\, Banksia\, Banksia\, NSW\, Australia
ATTACH;FMTTYPE=image/jpeg:https://boomerangpoker.com.au/wp-content/uploads/2025/05/image005.jpg
END:VEVENT
BEGIN:VEVENT
DTSTART;TZID=America/Los_Angeles:20280927T190000
DTEND;TZID=America/Los_Angeles:20280927T233000
DTSTAMP:20260423T132900
CREATED:20240212T111956Z
LAST-MODIFIED:20250520T074837Z
UID:10003393-1853694000-1853710200@boomerangpoker.com.au
SUMMARY:Wednesday Event Game 1
DESCRIPTION:
URL:https://boomerangpoker.com.au/event/club-mount-lewis/2028-09-27/
LOCATION:Banksia Hotel\, 288 Princess Hwy Banksia NSW\, Banksia\, Banksia\, NSW\, Australia
ATTACH;FMTTYPE=image/jpeg:https://boomerangpoker.com.au/wp-content/uploads/2025/05/image006.jpg
END:VEVENT
BEGIN:VEVENT
DTSTART;TZID=America/Los_Angeles:20280927T203000
DTEND;TZID=America/Los_Angeles:20280927T233000
DTSTAMP:20260423T132900
CREATED:20250520T074957Z
LAST-MODIFIED:20250520T075139Z
UID:10005333-1853699400-1853710200@boomerangpoker.com.au
SUMMARY:Wednesday Event Game 2
DESCRIPTION:
URL:https://boomerangpoker.com.au/event/wednesday-event-game-2/2028-09-27/
LOCATION:Banksia Hotel\, 288 Princess Hwy Banksia NSW\, Banksia\, Banksia\, NSW\, Australia
ATTACH;FMTTYPE=image/jpeg:https://boomerangpoker.com.au/wp-content/uploads/2025/05/image007.jpg
END:VEVENT
BEGIN:VEVENT
DTSTART;TZID=America/Los_Angeles:20280929T190000
DTEND;TZID=America/Los_Angeles:20280929T233000
DTSTAMP:20260423T132900
CREATED:20240212T112630Z
LAST-MODIFIED:20250520T075321Z
UID:10002600-1853866800-1853883000@boomerangpoker.com.au
SUMMARY:Friday Poker Game 1
DESCRIPTION:
URL:https://boomerangpoker.com.au/event/friday-poker/2028-09-29/
LOCATION:Banksia Hotel\, 288 Princess Hwy Banksia NSW\, Banksia\, Banksia\, NSW\, Australia
ATTACH;FMTTYPE=image/png:https://boomerangpoker.com.au/wp-content/uploads/2025/05/image008.png
END:VEVENT
BEGIN:VEVENT
DTSTART;TZID=America/Los_Angeles:20280929T203000
DTEND;TZID=America/Los_Angeles:20280929T233000
DTSTAMP:20260423T132900
CREATED:20250520T075436Z
LAST-MODIFIED:20250520T075436Z
UID:10006043-1853872200-1853883000@boomerangpoker.com.au
SUMMARY:Friday Poker Game 2
DESCRIPTION:
URL:https://boomerangpoker.com.au/event/friday-poker-game-2/2028-09-29/
LOCATION:Banksia Hotel\, 288 Princess Hwy Banksia NSW\, Banksia\, Banksia\, NSW\, Australia
ATTACH;FMTTYPE=image/png:https://boomerangpoker.com.au/wp-content/uploads/2025/05/image009.png
END:VEVENT
BEGIN:VEVENT
DTSTART;TZID=America/Los_Angeles:20281002T190000
DTEND;TZID=America/Los_Angeles:20281002T233000
DTSTAMP:20260423T132900
CREATED:20240212T112752Z
LAST-MODIFIED:20250520T074803Z
UID:10003649-1854126000-1854142200@boomerangpoker.com.au
SUMMARY:Monday Poker Game 1
DESCRIPTION:
URL:https://boomerangpoker.com.au/event/monday-poker/2028-10-02/
LOCATION:Banksia Hotel\, 288 Princess Hwy Banksia NSW\, Banksia\, Banksia\, NSW\, Australia
ATTACH;FMTTYPE=image/jpeg:https://boomerangpoker.com.au/wp-content/uploads/2025/05/image004.jpg
END:VEVENT
BEGIN:VEVENT
DTSTART;TZID=America/Los_Angeles:20281002T203000
DTEND;TZID=America/Los_Angeles:20281002T233000
DTSTAMP:20260423T132900
CREATED:20250520T073314Z
LAST-MODIFIED:20250520T074437Z
UID:10004627-1854131400-1854142200@boomerangpoker.com.au
SUMMARY:Monday Poker Game 2
DESCRIPTION:
URL:https://boomerangpoker.com.au/event/monday-poker-game-2/2028-10-02/
LOCATION:Banksia Hotel\, 288 Princess Hwy Banksia NSW\, Banksia\, Banksia\, NSW\, Australia
ATTACH;FMTTYPE=image/jpeg:https://boomerangpoker.com.au/wp-content/uploads/2025/05/image005.jpg
END:VEVENT
BEGIN:VEVENT
DTSTART;TZID=America/Los_Angeles:20281004T190000
DTEND;TZID=America/Los_Angeles:20281004T233000
DTSTAMP:20260423T132900
CREATED:20240212T111956Z
LAST-MODIFIED:20250520T074837Z
UID:10003394-1854298800-1854315000@boomerangpoker.com.au
SUMMARY:Wednesday Event Game 1
DESCRIPTION:
URL:https://boomerangpoker.com.au/event/club-mount-lewis/2028-10-04/
LOCATION:Banksia Hotel\, 288 Princess Hwy Banksia NSW\, Banksia\, Banksia\, NSW\, Australia
ATTACH;FMTTYPE=image/jpeg:https://boomerangpoker.com.au/wp-content/uploads/2025/05/image006.jpg
END:VEVENT
BEGIN:VEVENT
DTSTART;TZID=America/Los_Angeles:20281004T203000
DTEND;TZID=America/Los_Angeles:20281004T233000
DTSTAMP:20260423T132900
CREATED:20250520T074957Z
LAST-MODIFIED:20250520T075139Z
UID:10005334-1854304200-1854315000@boomerangpoker.com.au
SUMMARY:Wednesday Event Game 2
DESCRIPTION:
URL:https://boomerangpoker.com.au/event/wednesday-event-game-2/2028-10-04/
LOCATION:Banksia Hotel\, 288 Princess Hwy Banksia NSW\, Banksia\, Banksia\, NSW\, Australia
ATTACH;FMTTYPE=image/jpeg:https://boomerangpoker.com.au/wp-content/uploads/2025/05/image007.jpg
END:VEVENT
BEGIN:VEVENT
DTSTART;TZID=America/Los_Angeles:20281006T190000
DTEND;TZID=America/Los_Angeles:20281006T233000
DTSTAMP:20260423T132900
CREATED:20240212T112630Z
LAST-MODIFIED:20250520T075321Z
UID:10002601-1854471600-1854487800@boomerangpoker.com.au
SUMMARY:Friday Poker Game 1
DESCRIPTION:
URL:https://boomerangpoker.com.au/event/friday-poker/2028-10-06/
LOCATION:Banksia Hotel\, 288 Princess Hwy Banksia NSW\, Banksia\, Banksia\, NSW\, Australia
ATTACH;FMTTYPE=image/png:https://boomerangpoker.com.au/wp-content/uploads/2025/05/image008.png
END:VEVENT
BEGIN:VEVENT
DTSTART;TZID=America/Los_Angeles:20281006T203000
DTEND;TZID=America/Los_Angeles:20281006T233000
DTSTAMP:20260423T132900
CREATED:20250520T075436Z
LAST-MODIFIED:20250520T075436Z
UID:10006044-1854477000-1854487800@boomerangpoker.com.au
SUMMARY:Friday Poker Game 2
DESCRIPTION:
URL:https://boomerangpoker.com.au/event/friday-poker-game-2/2028-10-06/
LOCATION:Banksia Hotel\, 288 Princess Hwy Banksia NSW\, Banksia\, Banksia\, NSW\, Australia
ATTACH;FMTTYPE=image/png:https://boomerangpoker.com.au/wp-content/uploads/2025/05/image009.png
END:VEVENT
BEGIN:VEVENT
DTSTART;TZID=America/Los_Angeles:20281009T190000
DTEND;TZID=America/Los_Angeles:20281009T233000
DTSTAMP:20260423T132900
CREATED:20240212T112752Z
LAST-MODIFIED:20250520T074803Z
UID:10003650-1854730800-1854747000@boomerangpoker.com.au
SUMMARY:Monday Poker Game 1
DESCRIPTION:
URL:https://boomerangpoker.com.au/event/monday-poker/2028-10-09/
LOCATION:Banksia Hotel\, 288 Princess Hwy Banksia NSW\, Banksia\, Banksia\, NSW\, Australia
ATTACH;FMTTYPE=image/jpeg:https://boomerangpoker.com.au/wp-content/uploads/2025/05/image004.jpg
END:VEVENT
BEGIN:VEVENT
DTSTART;TZID=America/Los_Angeles:20281009T203000
DTEND;TZID=America/Los_Angeles:20281009T233000
DTSTAMP:20260423T132900
CREATED:20250520T073314Z
LAST-MODIFIED:20250520T074437Z
UID:10004628-1854736200-1854747000@boomerangpoker.com.au
SUMMARY:Monday Poker Game 2
DESCRIPTION:
URL:https://boomerangpoker.com.au/event/monday-poker-game-2/2028-10-09/
LOCATION:Banksia Hotel\, 288 Princess Hwy Banksia NSW\, Banksia\, Banksia\, NSW\, Australia
ATTACH;FMTTYPE=image/jpeg:https://boomerangpoker.com.au/wp-content/uploads/2025/05/image005.jpg
END:VEVENT
BEGIN:VEVENT
DTSTART;TZID=America/Los_Angeles:20281011T190000
DTEND;TZID=America/Los_Angeles:20281011T233000
DTSTAMP:20260423T132900
CREATED:20240212T111956Z
LAST-MODIFIED:20250520T074837Z
UID:10003395-1854903600-1854919800@boomerangpoker.com.au
SUMMARY:Wednesday Event Game 1
DESCRIPTION:
URL:https://boomerangpoker.com.au/event/club-mount-lewis/2028-10-11/
LOCATION:Banksia Hotel\, 288 Princess Hwy Banksia NSW\, Banksia\, Banksia\, NSW\, Australia
ATTACH;FMTTYPE=image/jpeg:https://boomerangpoker.com.au/wp-content/uploads/2025/05/image006.jpg
END:VEVENT
BEGIN:VEVENT
DTSTART;TZID=America/Los_Angeles:20281011T203000
DTEND;TZID=America/Los_Angeles:20281011T233000
DTSTAMP:20260423T132900
CREATED:20250520T074957Z
LAST-MODIFIED:20250520T075139Z
UID:10005335-1854909000-1854919800@boomerangpoker.com.au
SUMMARY:Wednesday Event Game 2
DESCRIPTION:
URL:https://boomerangpoker.com.au/event/wednesday-event-game-2/2028-10-11/
LOCATION:Banksia Hotel\, 288 Princess Hwy Banksia NSW\, Banksia\, Banksia\, NSW\, Australia
ATTACH;FMTTYPE=image/jpeg:https://boomerangpoker.com.au/wp-content/uploads/2025/05/image007.jpg
END:VEVENT
BEGIN:VEVENT
DTSTART;TZID=America/Los_Angeles:20281013T190000
DTEND;TZID=America/Los_Angeles:20281013T233000
DTSTAMP:20260423T132900
CREATED:20240212T112630Z
LAST-MODIFIED:20250520T075321Z
UID:10002602-1855076400-1855092600@boomerangpoker.com.au
SUMMARY:Friday Poker Game 1
DESCRIPTION:
URL:https://boomerangpoker.com.au/event/friday-poker/2028-10-13/
LOCATION:Banksia Hotel\, 288 Princess Hwy Banksia NSW\, Banksia\, Banksia\, NSW\, Australia
ATTACH;FMTTYPE=image/png:https://boomerangpoker.com.au/wp-content/uploads/2025/05/image008.png
END:VEVENT
BEGIN:VEVENT
DTSTART;TZID=America/Los_Angeles:20281013T203000
DTEND;TZID=America/Los_Angeles:20281013T233000
DTSTAMP:20260423T132900
CREATED:20250520T075436Z
LAST-MODIFIED:20250520T075436Z
UID:10006045-1855081800-1855092600@boomerangpoker.com.au
SUMMARY:Friday Poker Game 2
DESCRIPTION:
URL:https://boomerangpoker.com.au/event/friday-poker-game-2/2028-10-13/
LOCATION:Banksia Hotel\, 288 Princess Hwy Banksia NSW\, Banksia\, Banksia\, NSW\, Australia
ATTACH;FMTTYPE=image/png:https://boomerangpoker.com.au/wp-content/uploads/2025/05/image009.png
END:VEVENT
BEGIN:VEVENT
DTSTART;TZID=America/Los_Angeles:20281016T190000
DTEND;TZID=America/Los_Angeles:20281016T233000
DTSTAMP:20260423T132900
CREATED:20240212T112752Z
LAST-MODIFIED:20250520T074803Z
UID:10003651-1855335600-1855351800@boomerangpoker.com.au
SUMMARY:Monday Poker Game 1
DESCRIPTION:
URL:https://boomerangpoker.com.au/event/monday-poker/2028-10-16/
LOCATION:Banksia Hotel\, 288 Princess Hwy Banksia NSW\, Banksia\, Banksia\, NSW\, Australia
ATTACH;FMTTYPE=image/jpeg:https://boomerangpoker.com.au/wp-content/uploads/2025/05/image004.jpg
END:VEVENT
BEGIN:VEVENT
DTSTART;TZID=America/Los_Angeles:20281016T203000
DTEND;TZID=America/Los_Angeles:20281016T233000
DTSTAMP:20260423T132900
CREATED:20250520T073314Z
LAST-MODIFIED:20250520T074437Z
UID:10004629-1855341000-1855351800@boomerangpoker.com.au
SUMMARY:Monday Poker Game 2
DESCRIPTION:
URL:https://boomerangpoker.com.au/event/monday-poker-game-2/2028-10-16/
LOCATION:Banksia Hotel\, 288 Princess Hwy Banksia NSW\, Banksia\, Banksia\, NSW\, Australia
ATTACH;FMTTYPE=image/jpeg:https://boomerangpoker.com.au/wp-content/uploads/2025/05/image005.jpg
END:VEVENT
BEGIN:VEVENT
DTSTART;TZID=America/Los_Angeles:20281018T190000
DTEND;TZID=America/Los_Angeles:20281018T233000
DTSTAMP:20260423T132900
CREATED:20240212T111956Z
LAST-MODIFIED:20250520T074837Z
UID:10003396-1855508400-1855524600@boomerangpoker.com.au
SUMMARY:Wednesday Event Game 1
DESCRIPTION:
URL:https://boomerangpoker.com.au/event/club-mount-lewis/2028-10-18/
LOCATION:Banksia Hotel\, 288 Princess Hwy Banksia NSW\, Banksia\, Banksia\, NSW\, Australia
ATTACH;FMTTYPE=image/jpeg:https://boomerangpoker.com.au/wp-content/uploads/2025/05/image006.jpg
END:VEVENT
BEGIN:VEVENT
DTSTART;TZID=America/Los_Angeles:20281018T203000
DTEND;TZID=America/Los_Angeles:20281018T233000
DTSTAMP:20260423T132900
CREATED:20250520T074957Z
LAST-MODIFIED:20250520T075139Z
UID:10005336-1855513800-1855524600@boomerangpoker.com.au
SUMMARY:Wednesday Event Game 2
DESCRIPTION:
URL:https://boomerangpoker.com.au/event/wednesday-event-game-2/2028-10-18/
LOCATION:Banksia Hotel\, 288 Princess Hwy Banksia NSW\, Banksia\, Banksia\, NSW\, Australia
ATTACH;FMTTYPE=image/jpeg:https://boomerangpoker.com.au/wp-content/uploads/2025/05/image007.jpg
END:VEVENT
BEGIN:VEVENT
DTSTART;TZID=America/Los_Angeles:20281020T190000
DTEND;TZID=America/Los_Angeles:20281020T233000
DTSTAMP:20260423T132900
CREATED:20240212T112630Z
LAST-MODIFIED:20250520T075321Z
UID:10002603-1855681200-1855697400@boomerangpoker.com.au
SUMMARY:Friday Poker Game 1
DESCRIPTION:
URL:https://boomerangpoker.com.au/event/friday-poker/2028-10-20/
LOCATION:Banksia Hotel\, 288 Princess Hwy Banksia NSW\, Banksia\, Banksia\, NSW\, Australia
ATTACH;FMTTYPE=image/png:https://boomerangpoker.com.au/wp-content/uploads/2025/05/image008.png
END:VEVENT
BEGIN:VEVENT
DTSTART;TZID=America/Los_Angeles:20281020T203000
DTEND;TZID=America/Los_Angeles:20281020T233000
DTSTAMP:20260423T132900
CREATED:20250520T075436Z
LAST-MODIFIED:20250520T075436Z
UID:10006046-1855686600-1855697400@boomerangpoker.com.au
SUMMARY:Friday Poker Game 2
DESCRIPTION:
URL:https://boomerangpoker.com.au/event/friday-poker-game-2/2028-10-20/
LOCATION:Banksia Hotel\, 288 Princess Hwy Banksia NSW\, Banksia\, Banksia\, NSW\, Australia
ATTACH;FMTTYPE=image/png:https://boomerangpoker.com.au/wp-content/uploads/2025/05/image009.png
END:VEVENT
BEGIN:VEVENT
DTSTART;TZID=America/Los_Angeles:20281023T190000
DTEND;TZID=America/Los_Angeles:20281023T233000
DTSTAMP:20260423T132900
CREATED:20240212T112752Z
LAST-MODIFIED:20250520T074803Z
UID:10003652-1855940400-1855956600@boomerangpoker.com.au
SUMMARY:Monday Poker Game 1
DESCRIPTION:
URL:https://boomerangpoker.com.au/event/monday-poker/2028-10-23/
LOCATION:Banksia Hotel\, 288 Princess Hwy Banksia NSW\, Banksia\, Banksia\, NSW\, Australia
ATTACH;FMTTYPE=image/jpeg:https://boomerangpoker.com.au/wp-content/uploads/2025/05/image004.jpg
END:VEVENT
BEGIN:VEVENT
DTSTART;TZID=America/Los_Angeles:20281023T203000
DTEND;TZID=America/Los_Angeles:20281023T233000
DTSTAMP:20260423T132900
CREATED:20250520T073314Z
LAST-MODIFIED:20250520T074437Z
UID:10004630-1855945800-1855956600@boomerangpoker.com.au
SUMMARY:Monday Poker Game 2
DESCRIPTION:
URL:https://boomerangpoker.com.au/event/monday-poker-game-2/2028-10-23/
LOCATION:Banksia Hotel\, 288 Princess Hwy Banksia NSW\, Banksia\, Banksia\, NSW\, Australia
ATTACH;FMTTYPE=image/jpeg:https://boomerangpoker.com.au/wp-content/uploads/2025/05/image005.jpg
END:VEVENT
BEGIN:VEVENT
DTSTART;TZID=America/Los_Angeles:20281025T190000
DTEND;TZID=America/Los_Angeles:20281025T233000
DTSTAMP:20260423T132900
CREATED:20240212T111956Z
LAST-MODIFIED:20250520T074837Z
UID:10003397-1856113200-1856129400@boomerangpoker.com.au
SUMMARY:Wednesday Event Game 1
DESCRIPTION:
URL:https://boomerangpoker.com.au/event/club-mount-lewis/2028-10-25/
LOCATION:Banksia Hotel\, 288 Princess Hwy Banksia NSW\, Banksia\, Banksia\, NSW\, Australia
ATTACH;FMTTYPE=image/jpeg:https://boomerangpoker.com.au/wp-content/uploads/2025/05/image006.jpg
END:VEVENT
BEGIN:VEVENT
DTSTART;TZID=America/Los_Angeles:20281025T203000
DTEND;TZID=America/Los_Angeles:20281025T233000
DTSTAMP:20260423T132900
CREATED:20250520T074957Z
LAST-MODIFIED:20250520T075139Z
UID:10005337-1856118600-1856129400@boomerangpoker.com.au
SUMMARY:Wednesday Event Game 2
DESCRIPTION:
URL:https://boomerangpoker.com.au/event/wednesday-event-game-2/2028-10-25/
LOCATION:Banksia Hotel\, 288 Princess Hwy Banksia NSW\, Banksia\, Banksia\, NSW\, Australia
ATTACH;FMTTYPE=image/jpeg:https://boomerangpoker.com.au/wp-content/uploads/2025/05/image007.jpg
END:VEVENT
END:VCALENDAR