BEGIN:VCALENDAR
VERSION:2.0
PRODID:-//Boomerang - ECPv6.3.6//NONSGML v1.0//EN
CALSCALE:GREGORIAN
METHOD:PUBLISH
X-ORIGINAL-URL:https://boomerangpoker.com.au
X-WR-CALDESC:Events for Boomerang
REFRESH-INTERVAL;VALUE=DURATION:PT1H
X-Robots-Tag:noindex
X-PUBLISHED-TTL:PT1H
BEGIN:VTIMEZONE
TZID:America/Los_Angeles
BEGIN:DAYLIGHT
TZOFFSETFROM:-0800
TZOFFSETTO:-0700
TZNAME:PDT
DTSTART:20280312T100000
END:DAYLIGHT
BEGIN:STANDARD
TZOFFSETFROM:-0700
TZOFFSETTO:-0800
TZNAME:PST
DTSTART:20281105T090000
END:STANDARD
END:VTIMEZONE
BEGIN:VEVENT
DTSTART;TZID=America/Los_Angeles:20280519T190000
DTEND;TZID=America/Los_Angeles:20280519T233000
DTSTAMP:20260422T234432
CREATED:20240212T112630Z
LAST-MODIFIED:20250520T075321Z
UID:10002581-1842375600-1842391800@boomerangpoker.com.au
SUMMARY:Friday Poker Game 1
DESCRIPTION:
URL:https://boomerangpoker.com.au/event/friday-poker/2028-05-19/
LOCATION:Banksia Hotel\, 288 Princess Hwy Banksia NSW\, Banksia\, Banksia\, NSW\, Australia
ATTACH;FMTTYPE=image/png:https://boomerangpoker.com.au/wp-content/uploads/2025/05/image008.png
END:VEVENT
BEGIN:VEVENT
DTSTART;TZID=America/Los_Angeles:20280519T203000
DTEND;TZID=America/Los_Angeles:20280519T233000
DTSTAMP:20260422T234432
CREATED:20250520T075436Z
LAST-MODIFIED:20250520T075436Z
UID:10006024-1842381000-1842391800@boomerangpoker.com.au
SUMMARY:Friday Poker Game 2
DESCRIPTION:
URL:https://boomerangpoker.com.au/event/friday-poker-game-2/2028-05-19/
LOCATION:Banksia Hotel\, 288 Princess Hwy Banksia NSW\, Banksia\, Banksia\, NSW\, Australia
ATTACH;FMTTYPE=image/png:https://boomerangpoker.com.au/wp-content/uploads/2025/05/image009.png
END:VEVENT
BEGIN:VEVENT
DTSTART;TZID=America/Los_Angeles:20280522T190000
DTEND;TZID=America/Los_Angeles:20280522T233000
DTSTAMP:20260422T234432
CREATED:20240212T112752Z
LAST-MODIFIED:20250520T074803Z
UID:10003630-1842634800-1842651000@boomerangpoker.com.au
SUMMARY:Monday Poker Game 1
DESCRIPTION:
URL:https://boomerangpoker.com.au/event/monday-poker/2028-05-22/
LOCATION:Banksia Hotel\, 288 Princess Hwy Banksia NSW\, Banksia\, Banksia\, NSW\, Australia
ATTACH;FMTTYPE=image/jpeg:https://boomerangpoker.com.au/wp-content/uploads/2025/05/image004.jpg
END:VEVENT
BEGIN:VEVENT
DTSTART;TZID=America/Los_Angeles:20280522T203000
DTEND;TZID=America/Los_Angeles:20280522T233000
DTSTAMP:20260422T234432
CREATED:20250520T073314Z
LAST-MODIFIED:20250520T074437Z
UID:10004608-1842640200-1842651000@boomerangpoker.com.au
SUMMARY:Monday Poker Game 2
DESCRIPTION:
URL:https://boomerangpoker.com.au/event/monday-poker-game-2/2028-05-22/
LOCATION:Banksia Hotel\, 288 Princess Hwy Banksia NSW\, Banksia\, Banksia\, NSW\, Australia
ATTACH;FMTTYPE=image/jpeg:https://boomerangpoker.com.au/wp-content/uploads/2025/05/image005.jpg
END:VEVENT
BEGIN:VEVENT
DTSTART;TZID=America/Los_Angeles:20280524T190000
DTEND;TZID=America/Los_Angeles:20280524T233000
DTSTAMP:20260422T234432
CREATED:20240212T111956Z
LAST-MODIFIED:20250520T074837Z
UID:10003375-1842807600-1842823800@boomerangpoker.com.au
SUMMARY:Wednesday Event Game 1
DESCRIPTION:
URL:https://boomerangpoker.com.au/event/club-mount-lewis/2028-05-24/
LOCATION:Banksia Hotel\, 288 Princess Hwy Banksia NSW\, Banksia\, Banksia\, NSW\, Australia
ATTACH;FMTTYPE=image/jpeg:https://boomerangpoker.com.au/wp-content/uploads/2025/05/image006.jpg
END:VEVENT
BEGIN:VEVENT
DTSTART;TZID=America/Los_Angeles:20280524T203000
DTEND;TZID=America/Los_Angeles:20280524T233000
DTSTAMP:20260422T234432
CREATED:20250520T074957Z
LAST-MODIFIED:20250520T075139Z
UID:10005315-1842813000-1842823800@boomerangpoker.com.au
SUMMARY:Wednesday Event Game 2
DESCRIPTION:
URL:https://boomerangpoker.com.au/event/wednesday-event-game-2/2028-05-24/
LOCATION:Banksia Hotel\, 288 Princess Hwy Banksia NSW\, Banksia\, Banksia\, NSW\, Australia
ATTACH;FMTTYPE=image/jpeg:https://boomerangpoker.com.au/wp-content/uploads/2025/05/image007.jpg
END:VEVENT
BEGIN:VEVENT
DTSTART;TZID=America/Los_Angeles:20280526T190000
DTEND;TZID=America/Los_Angeles:20280526T233000
DTSTAMP:20260422T234432
CREATED:20240212T112630Z
LAST-MODIFIED:20250520T075321Z
UID:10002582-1842980400-1842996600@boomerangpoker.com.au
SUMMARY:Friday Poker Game 1
DESCRIPTION:
URL:https://boomerangpoker.com.au/event/friday-poker/2028-05-26/
LOCATION:Banksia Hotel\, 288 Princess Hwy Banksia NSW\, Banksia\, Banksia\, NSW\, Australia
ATTACH;FMTTYPE=image/png:https://boomerangpoker.com.au/wp-content/uploads/2025/05/image008.png
END:VEVENT
BEGIN:VEVENT
DTSTART;TZID=America/Los_Angeles:20280526T203000
DTEND;TZID=America/Los_Angeles:20280526T233000
DTSTAMP:20260422T234432
CREATED:20250520T075436Z
LAST-MODIFIED:20250520T075436Z
UID:10006025-1842985800-1842996600@boomerangpoker.com.au
SUMMARY:Friday Poker Game 2
DESCRIPTION:
URL:https://boomerangpoker.com.au/event/friday-poker-game-2/2028-05-26/
LOCATION:Banksia Hotel\, 288 Princess Hwy Banksia NSW\, Banksia\, Banksia\, NSW\, Australia
ATTACH;FMTTYPE=image/png:https://boomerangpoker.com.au/wp-content/uploads/2025/05/image009.png
END:VEVENT
BEGIN:VEVENT
DTSTART;TZID=America/Los_Angeles:20280529T190000
DTEND;TZID=America/Los_Angeles:20280529T233000
DTSTAMP:20260422T234432
CREATED:20240212T112752Z
LAST-MODIFIED:20250520T074803Z
UID:10003631-1843239600-1843255800@boomerangpoker.com.au
SUMMARY:Monday Poker Game 1
DESCRIPTION:
URL:https://boomerangpoker.com.au/event/monday-poker/2028-05-29/
LOCATION:Banksia Hotel\, 288 Princess Hwy Banksia NSW\, Banksia\, Banksia\, NSW\, Australia
ATTACH;FMTTYPE=image/jpeg:https://boomerangpoker.com.au/wp-content/uploads/2025/05/image004.jpg
END:VEVENT
BEGIN:VEVENT
DTSTART;TZID=America/Los_Angeles:20280529T203000
DTEND;TZID=America/Los_Angeles:20280529T233000
DTSTAMP:20260422T234432
CREATED:20250520T073314Z
LAST-MODIFIED:20250520T074437Z
UID:10004609-1843245000-1843255800@boomerangpoker.com.au
SUMMARY:Monday Poker Game 2
DESCRIPTION:
URL:https://boomerangpoker.com.au/event/monday-poker-game-2/2028-05-29/
LOCATION:Banksia Hotel\, 288 Princess Hwy Banksia NSW\, Banksia\, Banksia\, NSW\, Australia
ATTACH;FMTTYPE=image/jpeg:https://boomerangpoker.com.au/wp-content/uploads/2025/05/image005.jpg
END:VEVENT
BEGIN:VEVENT
DTSTART;TZID=America/Los_Angeles:20280531T190000
DTEND;TZID=America/Los_Angeles:20280531T233000
DTSTAMP:20260422T234432
CREATED:20240212T111956Z
LAST-MODIFIED:20250520T074837Z
UID:10003376-1843412400-1843428600@boomerangpoker.com.au
SUMMARY:Wednesday Event Game 1
DESCRIPTION:
URL:https://boomerangpoker.com.au/event/club-mount-lewis/2028-05-31/
LOCATION:Banksia Hotel\, 288 Princess Hwy Banksia NSW\, Banksia\, Banksia\, NSW\, Australia
ATTACH;FMTTYPE=image/jpeg:https://boomerangpoker.com.au/wp-content/uploads/2025/05/image006.jpg
END:VEVENT
BEGIN:VEVENT
DTSTART;TZID=America/Los_Angeles:20280531T203000
DTEND;TZID=America/Los_Angeles:20280531T233000
DTSTAMP:20260422T234432
CREATED:20250520T074957Z
LAST-MODIFIED:20250520T075139Z
UID:10005316-1843417800-1843428600@boomerangpoker.com.au
SUMMARY:Wednesday Event Game 2
DESCRIPTION:
URL:https://boomerangpoker.com.au/event/wednesday-event-game-2/2028-05-31/
LOCATION:Banksia Hotel\, 288 Princess Hwy Banksia NSW\, Banksia\, Banksia\, NSW\, Australia
ATTACH;FMTTYPE=image/jpeg:https://boomerangpoker.com.au/wp-content/uploads/2025/05/image007.jpg
END:VEVENT
BEGIN:VEVENT
DTSTART;TZID=America/Los_Angeles:20280602T190000
DTEND;TZID=America/Los_Angeles:20280602T233000
DTSTAMP:20260422T234432
CREATED:20240212T112630Z
LAST-MODIFIED:20250520T075321Z
UID:10002583-1843585200-1843601400@boomerangpoker.com.au
SUMMARY:Friday Poker Game 1
DESCRIPTION:
URL:https://boomerangpoker.com.au/event/friday-poker/2028-06-02/
LOCATION:Banksia Hotel\, 288 Princess Hwy Banksia NSW\, Banksia\, Banksia\, NSW\, Australia
ATTACH;FMTTYPE=image/png:https://boomerangpoker.com.au/wp-content/uploads/2025/05/image008.png
END:VEVENT
BEGIN:VEVENT
DTSTART;TZID=America/Los_Angeles:20280602T203000
DTEND;TZID=America/Los_Angeles:20280602T233000
DTSTAMP:20260422T234432
CREATED:20250520T075436Z
LAST-MODIFIED:20250520T075436Z
UID:10006026-1843590600-1843601400@boomerangpoker.com.au
SUMMARY:Friday Poker Game 2
DESCRIPTION:
URL:https://boomerangpoker.com.au/event/friday-poker-game-2/2028-06-02/
LOCATION:Banksia Hotel\, 288 Princess Hwy Banksia NSW\, Banksia\, Banksia\, NSW\, Australia
ATTACH;FMTTYPE=image/png:https://boomerangpoker.com.au/wp-content/uploads/2025/05/image009.png
END:VEVENT
BEGIN:VEVENT
DTSTART;TZID=America/Los_Angeles:20280605T190000
DTEND;TZID=America/Los_Angeles:20280605T233000
DTSTAMP:20260422T234432
CREATED:20240212T112752Z
LAST-MODIFIED:20250520T074803Z
UID:10003632-1843844400-1843860600@boomerangpoker.com.au
SUMMARY:Monday Poker Game 1
DESCRIPTION:
URL:https://boomerangpoker.com.au/event/monday-poker/2028-06-05/
LOCATION:Banksia Hotel\, 288 Princess Hwy Banksia NSW\, Banksia\, Banksia\, NSW\, Australia
ATTACH;FMTTYPE=image/jpeg:https://boomerangpoker.com.au/wp-content/uploads/2025/05/image004.jpg
END:VEVENT
BEGIN:VEVENT
DTSTART;TZID=America/Los_Angeles:20280605T203000
DTEND;TZID=America/Los_Angeles:20280605T233000
DTSTAMP:20260422T234432
CREATED:20250520T073314Z
LAST-MODIFIED:20250520T074437Z
UID:10004610-1843849800-1843860600@boomerangpoker.com.au
SUMMARY:Monday Poker Game 2
DESCRIPTION:
URL:https://boomerangpoker.com.au/event/monday-poker-game-2/2028-06-05/
LOCATION:Banksia Hotel\, 288 Princess Hwy Banksia NSW\, Banksia\, Banksia\, NSW\, Australia
ATTACH;FMTTYPE=image/jpeg:https://boomerangpoker.com.au/wp-content/uploads/2025/05/image005.jpg
END:VEVENT
BEGIN:VEVENT
DTSTART;TZID=America/Los_Angeles:20280607T190000
DTEND;TZID=America/Los_Angeles:20280607T233000
DTSTAMP:20260422T234432
CREATED:20240212T111956Z
LAST-MODIFIED:20250520T074837Z
UID:10003377-1844017200-1844033400@boomerangpoker.com.au
SUMMARY:Wednesday Event Game 1
DESCRIPTION:
URL:https://boomerangpoker.com.au/event/club-mount-lewis/2028-06-07/
LOCATION:Banksia Hotel\, 288 Princess Hwy Banksia NSW\, Banksia\, Banksia\, NSW\, Australia
ATTACH;FMTTYPE=image/jpeg:https://boomerangpoker.com.au/wp-content/uploads/2025/05/image006.jpg
END:VEVENT
BEGIN:VEVENT
DTSTART;TZID=America/Los_Angeles:20280607T203000
DTEND;TZID=America/Los_Angeles:20280607T233000
DTSTAMP:20260422T234432
CREATED:20250520T074957Z
LAST-MODIFIED:20250520T075139Z
UID:10005317-1844022600-1844033400@boomerangpoker.com.au
SUMMARY:Wednesday Event Game 2
DESCRIPTION:
URL:https://boomerangpoker.com.au/event/wednesday-event-game-2/2028-06-07/
LOCATION:Banksia Hotel\, 288 Princess Hwy Banksia NSW\, Banksia\, Banksia\, NSW\, Australia
ATTACH;FMTTYPE=image/jpeg:https://boomerangpoker.com.au/wp-content/uploads/2025/05/image007.jpg
END:VEVENT
BEGIN:VEVENT
DTSTART;TZID=America/Los_Angeles:20280609T190000
DTEND;TZID=America/Los_Angeles:20280609T233000
DTSTAMP:20260422T234432
CREATED:20240212T112630Z
LAST-MODIFIED:20250520T075321Z
UID:10002584-1844190000-1844206200@boomerangpoker.com.au
SUMMARY:Friday Poker Game 1
DESCRIPTION:
URL:https://boomerangpoker.com.au/event/friday-poker/2028-06-09/
LOCATION:Banksia Hotel\, 288 Princess Hwy Banksia NSW\, Banksia\, Banksia\, NSW\, Australia
ATTACH;FMTTYPE=image/png:https://boomerangpoker.com.au/wp-content/uploads/2025/05/image008.png
END:VEVENT
BEGIN:VEVENT
DTSTART;TZID=America/Los_Angeles:20280609T203000
DTEND;TZID=America/Los_Angeles:20280609T233000
DTSTAMP:20260422T234432
CREATED:20250520T075436Z
LAST-MODIFIED:20250520T075436Z
UID:10006027-1844195400-1844206200@boomerangpoker.com.au
SUMMARY:Friday Poker Game 2
DESCRIPTION:
URL:https://boomerangpoker.com.au/event/friday-poker-game-2/2028-06-09/
LOCATION:Banksia Hotel\, 288 Princess Hwy Banksia NSW\, Banksia\, Banksia\, NSW\, Australia
ATTACH;FMTTYPE=image/png:https://boomerangpoker.com.au/wp-content/uploads/2025/05/image009.png
END:VEVENT
BEGIN:VEVENT
DTSTART;TZID=America/Los_Angeles:20280612T190000
DTEND;TZID=America/Los_Angeles:20280612T233000
DTSTAMP:20260422T234432
CREATED:20240212T112752Z
LAST-MODIFIED:20250520T074803Z
UID:10003633-1844449200-1844465400@boomerangpoker.com.au
SUMMARY:Monday Poker Game 1
DESCRIPTION:
URL:https://boomerangpoker.com.au/event/monday-poker/2028-06-12/
LOCATION:Banksia Hotel\, 288 Princess Hwy Banksia NSW\, Banksia\, Banksia\, NSW\, Australia
ATTACH;FMTTYPE=image/jpeg:https://boomerangpoker.com.au/wp-content/uploads/2025/05/image004.jpg
END:VEVENT
BEGIN:VEVENT
DTSTART;TZID=America/Los_Angeles:20280612T203000
DTEND;TZID=America/Los_Angeles:20280612T233000
DTSTAMP:20260422T234432
CREATED:20250520T073314Z
LAST-MODIFIED:20250520T074437Z
UID:10004611-1844454600-1844465400@boomerangpoker.com.au
SUMMARY:Monday Poker Game 2
DESCRIPTION:
URL:https://boomerangpoker.com.au/event/monday-poker-game-2/2028-06-12/
LOCATION:Banksia Hotel\, 288 Princess Hwy Banksia NSW\, Banksia\, Banksia\, NSW\, Australia
ATTACH;FMTTYPE=image/jpeg:https://boomerangpoker.com.au/wp-content/uploads/2025/05/image005.jpg
END:VEVENT
BEGIN:VEVENT
DTSTART;TZID=America/Los_Angeles:20280614T190000
DTEND;TZID=America/Los_Angeles:20280614T233000
DTSTAMP:20260422T234432
CREATED:20240212T111956Z
LAST-MODIFIED:20250520T074837Z
UID:10003378-1844622000-1844638200@boomerangpoker.com.au
SUMMARY:Wednesday Event Game 1
DESCRIPTION:
URL:https://boomerangpoker.com.au/event/club-mount-lewis/2028-06-14/
LOCATION:Banksia Hotel\, 288 Princess Hwy Banksia NSW\, Banksia\, Banksia\, NSW\, Australia
ATTACH;FMTTYPE=image/jpeg:https://boomerangpoker.com.au/wp-content/uploads/2025/05/image006.jpg
END:VEVENT
BEGIN:VEVENT
DTSTART;TZID=America/Los_Angeles:20280614T203000
DTEND;TZID=America/Los_Angeles:20280614T233000
DTSTAMP:20260422T234432
CREATED:20250520T074957Z
LAST-MODIFIED:20250520T075139Z
UID:10005318-1844627400-1844638200@boomerangpoker.com.au
SUMMARY:Wednesday Event Game 2
DESCRIPTION:
URL:https://boomerangpoker.com.au/event/wednesday-event-game-2/2028-06-14/
LOCATION:Banksia Hotel\, 288 Princess Hwy Banksia NSW\, Banksia\, Banksia\, NSW\, Australia
ATTACH;FMTTYPE=image/jpeg:https://boomerangpoker.com.au/wp-content/uploads/2025/05/image007.jpg
END:VEVENT
BEGIN:VEVENT
DTSTART;TZID=America/Los_Angeles:20280616T190000
DTEND;TZID=America/Los_Angeles:20280616T233000
DTSTAMP:20260422T234432
CREATED:20240212T112630Z
LAST-MODIFIED:20250520T075321Z
UID:10002585-1844794800-1844811000@boomerangpoker.com.au
SUMMARY:Friday Poker Game 1
DESCRIPTION:
URL:https://boomerangpoker.com.au/event/friday-poker/2028-06-16/
LOCATION:Banksia Hotel\, 288 Princess Hwy Banksia NSW\, Banksia\, Banksia\, NSW\, Australia
ATTACH;FMTTYPE=image/png:https://boomerangpoker.com.au/wp-content/uploads/2025/05/image008.png
END:VEVENT
BEGIN:VEVENT
DTSTART;TZID=America/Los_Angeles:20280616T203000
DTEND;TZID=America/Los_Angeles:20280616T233000
DTSTAMP:20260422T234432
CREATED:20250520T075436Z
LAST-MODIFIED:20250520T075436Z
UID:10006028-1844800200-1844811000@boomerangpoker.com.au
SUMMARY:Friday Poker Game 2
DESCRIPTION:
URL:https://boomerangpoker.com.au/event/friday-poker-game-2/2028-06-16/
LOCATION:Banksia Hotel\, 288 Princess Hwy Banksia NSW\, Banksia\, Banksia\, NSW\, Australia
ATTACH;FMTTYPE=image/png:https://boomerangpoker.com.au/wp-content/uploads/2025/05/image009.png
END:VEVENT
BEGIN:VEVENT
DTSTART;TZID=America/Los_Angeles:20280619T190000
DTEND;TZID=America/Los_Angeles:20280619T233000
DTSTAMP:20260422T234432
CREATED:20240212T112752Z
LAST-MODIFIED:20250520T074803Z
UID:10003634-1845054000-1845070200@boomerangpoker.com.au
SUMMARY:Monday Poker Game 1
DESCRIPTION:
URL:https://boomerangpoker.com.au/event/monday-poker/2028-06-19/
LOCATION:Banksia Hotel\, 288 Princess Hwy Banksia NSW\, Banksia\, Banksia\, NSW\, Australia
ATTACH;FMTTYPE=image/jpeg:https://boomerangpoker.com.au/wp-content/uploads/2025/05/image004.jpg
END:VEVENT
BEGIN:VEVENT
DTSTART;TZID=America/Los_Angeles:20280619T203000
DTEND;TZID=America/Los_Angeles:20280619T233000
DTSTAMP:20260422T234432
CREATED:20250520T073314Z
LAST-MODIFIED:20250520T074437Z
UID:10004612-1845059400-1845070200@boomerangpoker.com.au
SUMMARY:Monday Poker Game 2
DESCRIPTION:
URL:https://boomerangpoker.com.au/event/monday-poker-game-2/2028-06-19/
LOCATION:Banksia Hotel\, 288 Princess Hwy Banksia NSW\, Banksia\, Banksia\, NSW\, Australia
ATTACH;FMTTYPE=image/jpeg:https://boomerangpoker.com.au/wp-content/uploads/2025/05/image005.jpg
END:VEVENT
BEGIN:VEVENT
DTSTART;TZID=America/Los_Angeles:20280621T190000
DTEND;TZID=America/Los_Angeles:20280621T233000
DTSTAMP:20260422T234432
CREATED:20240212T111956Z
LAST-MODIFIED:20250520T074837Z
UID:10003379-1845226800-1845243000@boomerangpoker.com.au
SUMMARY:Wednesday Event Game 1
DESCRIPTION:
URL:https://boomerangpoker.com.au/event/club-mount-lewis/2028-06-21/
LOCATION:Banksia Hotel\, 288 Princess Hwy Banksia NSW\, Banksia\, Banksia\, NSW\, Australia
ATTACH;FMTTYPE=image/jpeg:https://boomerangpoker.com.au/wp-content/uploads/2025/05/image006.jpg
END:VEVENT
BEGIN:VEVENT
DTSTART;TZID=America/Los_Angeles:20280621T203000
DTEND;TZID=America/Los_Angeles:20280621T233000
DTSTAMP:20260422T234432
CREATED:20250520T074957Z
LAST-MODIFIED:20250520T075139Z
UID:10005319-1845232200-1845243000@boomerangpoker.com.au
SUMMARY:Wednesday Event Game 2
DESCRIPTION:
URL:https://boomerangpoker.com.au/event/wednesday-event-game-2/2028-06-21/
LOCATION:Banksia Hotel\, 288 Princess Hwy Banksia NSW\, Banksia\, Banksia\, NSW\, Australia
ATTACH;FMTTYPE=image/jpeg:https://boomerangpoker.com.au/wp-content/uploads/2025/05/image007.jpg
END:VEVENT
END:VCALENDAR