BEGIN:VCALENDAR
VERSION:2.0
PRODID:-//Boomerang - ECPv6.3.6//NONSGML v1.0//EN
CALSCALE:GREGORIAN
METHOD:PUBLISH
X-WR-CALNAME:Boomerang
X-ORIGINAL-URL:https://boomerangpoker.com.au
X-WR-CALDESC:Events for Boomerang
REFRESH-INTERVAL;VALUE=DURATION:PT1H
X-Robots-Tag:noindex
X-PUBLISHED-TTL:PT1H
BEGIN:VTIMEZONE
TZID:America/Los_Angeles
BEGIN:DAYLIGHT
TZOFFSETFROM:-0800
TZOFFSETTO:-0700
TZNAME:PDT
DTSTART:20240310T100000
END:DAYLIGHT
BEGIN:STANDARD
TZOFFSETFROM:-0700
TZOFFSETTO:-0800
TZNAME:PST
DTSTART:20241103T090000
END:STANDARD
END:VTIMEZONE
BEGIN:VEVENT
DTSTART;TZID=America/Los_Angeles:20240624T203000
DTEND;TZID=America/Los_Angeles:20240624T233000
DTSTAMP:20260425T064201
CREATED:20250520T073314Z
LAST-MODIFIED:20250520T074437Z
UID:10004404-1719261000-1719271800@boomerangpoker.com.au
SUMMARY:Monday Poker Game 2
DESCRIPTION:
URL:https://boomerangpoker.com.au/event/monday-poker-game-2/2024-06-24/
LOCATION:Banksia Hotel\, 288 Princess Hwy Banksia NSW\, Banksia\, Banksia\, NSW\, Australia
ATTACH;FMTTYPE=image/jpeg:https://boomerangpoker.com.au/wp-content/uploads/2025/05/image005.jpg
END:VEVENT
BEGIN:VEVENT
DTSTART;TZID=America/Los_Angeles:20240624T190000
DTEND;TZID=America/Los_Angeles:20240624T233000
DTSTAMP:20260425T064201
CREATED:20240212T112752Z
LAST-MODIFIED:20250520T074803Z
UID:10003426-1719255600-1719271800@boomerangpoker.com.au
SUMMARY:Monday Poker Game 1
DESCRIPTION:
URL:https://boomerangpoker.com.au/event/monday-poker/2024-06-24/
LOCATION:Banksia Hotel\, 288 Princess Hwy Banksia NSW\, Banksia\, Banksia\, NSW\, Australia
ATTACH;FMTTYPE=image/jpeg:https://boomerangpoker.com.au/wp-content/uploads/2025/05/image004.jpg
END:VEVENT
BEGIN:VEVENT
DTSTART;TZID=America/Los_Angeles:20240621T203000
DTEND;TZID=America/Los_Angeles:20240621T233000
DTSTAMP:20260425T064201
CREATED:20250520T075436Z
LAST-MODIFIED:20250520T075436Z
UID:10005820-1719001800-1719012600@boomerangpoker.com.au
SUMMARY:Friday Poker Game 2
DESCRIPTION:
URL:https://boomerangpoker.com.au/event/friday-poker-game-2/2024-06-21/
LOCATION:Banksia Hotel\, 288 Princess Hwy Banksia NSW\, Banksia\, Banksia\, NSW\, Australia
ATTACH;FMTTYPE=image/png:https://boomerangpoker.com.au/wp-content/uploads/2025/05/image009.png
END:VEVENT
BEGIN:VEVENT
DTSTART;TZID=America/Los_Angeles:20240621T190000
DTEND;TZID=America/Los_Angeles:20240621T233000
DTSTAMP:20260425T064201
CREATED:20240212T112630Z
LAST-MODIFIED:20250520T075321Z
UID:10002377-1718996400-1719012600@boomerangpoker.com.au
SUMMARY:Friday Poker Game 1
DESCRIPTION:
URL:https://boomerangpoker.com.au/event/friday-poker/2024-06-21/
LOCATION:Banksia Hotel\, 288 Princess Hwy Banksia NSW\, Banksia\, Banksia\, NSW\, Australia
ATTACH;FMTTYPE=image/png:https://boomerangpoker.com.au/wp-content/uploads/2025/05/image008.png
END:VEVENT
BEGIN:VEVENT
DTSTART;TZID=America/Los_Angeles:20240619T203000
DTEND;TZID=America/Los_Angeles:20240619T233000
DTSTAMP:20260425T064201
CREATED:20250520T074957Z
LAST-MODIFIED:20250520T075139Z
UID:10005110-1718829000-1718839800@boomerangpoker.com.au
SUMMARY:Wednesday Event Game 2
DESCRIPTION:
URL:https://boomerangpoker.com.au/event/wednesday-event-game-2/2024-06-19/
LOCATION:Banksia Hotel\, 288 Princess Hwy Banksia NSW\, Banksia\, Banksia\, NSW\, Australia
ATTACH;FMTTYPE=image/jpeg:https://boomerangpoker.com.au/wp-content/uploads/2025/05/image007.jpg
END:VEVENT
BEGIN:VEVENT
DTSTART;TZID=America/Los_Angeles:20240619T190000
DTEND;TZID=America/Los_Angeles:20240619T233000
DTSTAMP:20260425T064201
CREATED:20240212T111956Z
LAST-MODIFIED:20250520T074837Z
UID:10003170-1718823600-1718839800@boomerangpoker.com.au
SUMMARY:Wednesday Event Game 1
DESCRIPTION:
URL:https://boomerangpoker.com.au/event/club-mount-lewis/2024-06-19/
LOCATION:Banksia Hotel\, 288 Princess Hwy Banksia NSW\, Banksia\, Banksia\, NSW\, Australia
ATTACH;FMTTYPE=image/jpeg:https://boomerangpoker.com.au/wp-content/uploads/2025/05/image006.jpg
END:VEVENT
BEGIN:VEVENT
DTSTART;TZID=America/Los_Angeles:20240617T203000
DTEND;TZID=America/Los_Angeles:20240617T233000
DTSTAMP:20260425T064201
CREATED:20250520T073314Z
LAST-MODIFIED:20250520T074437Z
UID:10004403-1718656200-1718667000@boomerangpoker.com.au
SUMMARY:Monday Poker Game 2
DESCRIPTION:
URL:https://boomerangpoker.com.au/event/monday-poker-game-2/2024-06-17/
LOCATION:Banksia Hotel\, 288 Princess Hwy Banksia NSW\, Banksia\, Banksia\, NSW\, Australia
ATTACH;FMTTYPE=image/jpeg:https://boomerangpoker.com.au/wp-content/uploads/2025/05/image005.jpg
END:VEVENT
BEGIN:VEVENT
DTSTART;TZID=America/Los_Angeles:20240617T190000
DTEND;TZID=America/Los_Angeles:20240617T233000
DTSTAMP:20260425T064201
CREATED:20240212T112752Z
LAST-MODIFIED:20250520T074803Z
UID:10003425-1718650800-1718667000@boomerangpoker.com.au
SUMMARY:Monday Poker Game 1
DESCRIPTION:
URL:https://boomerangpoker.com.au/event/monday-poker/2024-06-17/
LOCATION:Banksia Hotel\, 288 Princess Hwy Banksia NSW\, Banksia\, Banksia\, NSW\, Australia
ATTACH;FMTTYPE=image/jpeg:https://boomerangpoker.com.au/wp-content/uploads/2025/05/image004.jpg
END:VEVENT
BEGIN:VEVENT
DTSTART;TZID=America/Los_Angeles:20240614T203000
DTEND;TZID=America/Los_Angeles:20240614T233000
DTSTAMP:20260425T064201
CREATED:20250520T075436Z
LAST-MODIFIED:20250520T075436Z
UID:10005819-1718397000-1718407800@boomerangpoker.com.au
SUMMARY:Friday Poker Game 2
DESCRIPTION:
URL:https://boomerangpoker.com.au/event/friday-poker-game-2/2024-06-14/
LOCATION:Banksia Hotel\, 288 Princess Hwy Banksia NSW\, Banksia\, Banksia\, NSW\, Australia
ATTACH;FMTTYPE=image/png:https://boomerangpoker.com.au/wp-content/uploads/2025/05/image009.png
END:VEVENT
BEGIN:VEVENT
DTSTART;TZID=America/Los_Angeles:20240614T190000
DTEND;TZID=America/Los_Angeles:20240614T233000
DTSTAMP:20260425T064201
CREATED:20240212T112630Z
LAST-MODIFIED:20250520T075321Z
UID:10002376-1718391600-1718407800@boomerangpoker.com.au
SUMMARY:Friday Poker Game 1
DESCRIPTION:
URL:https://boomerangpoker.com.au/event/friday-poker/2024-06-14/
LOCATION:Banksia Hotel\, 288 Princess Hwy Banksia NSW\, Banksia\, Banksia\, NSW\, Australia
ATTACH;FMTTYPE=image/png:https://boomerangpoker.com.au/wp-content/uploads/2025/05/image008.png
END:VEVENT
BEGIN:VEVENT
DTSTART;TZID=America/Los_Angeles:20240612T203000
DTEND;TZID=America/Los_Angeles:20240612T233000
DTSTAMP:20260425T064201
CREATED:20250520T074957Z
LAST-MODIFIED:20250520T075139Z
UID:10005109-1718224200-1718235000@boomerangpoker.com.au
SUMMARY:Wednesday Event Game 2
DESCRIPTION:
URL:https://boomerangpoker.com.au/event/wednesday-event-game-2/2024-06-12/
LOCATION:Banksia Hotel\, 288 Princess Hwy Banksia NSW\, Banksia\, Banksia\, NSW\, Australia
ATTACH;FMTTYPE=image/jpeg:https://boomerangpoker.com.au/wp-content/uploads/2025/05/image007.jpg
END:VEVENT
BEGIN:VEVENT
DTSTART;TZID=America/Los_Angeles:20240612T190000
DTEND;TZID=America/Los_Angeles:20240612T233000
DTSTAMP:20260425T064201
CREATED:20240212T111956Z
LAST-MODIFIED:20250520T074837Z
UID:10003169-1718218800-1718235000@boomerangpoker.com.au
SUMMARY:Wednesday Event Game 1
DESCRIPTION:
URL:https://boomerangpoker.com.au/event/club-mount-lewis/2024-06-12/
LOCATION:Banksia Hotel\, 288 Princess Hwy Banksia NSW\, Banksia\, Banksia\, NSW\, Australia
ATTACH;FMTTYPE=image/jpeg:https://boomerangpoker.com.au/wp-content/uploads/2025/05/image006.jpg
END:VEVENT
BEGIN:VEVENT
DTSTART;TZID=America/Los_Angeles:20240610T203000
DTEND;TZID=America/Los_Angeles:20240610T233000
DTSTAMP:20260425T064201
CREATED:20250520T073314Z
LAST-MODIFIED:20250520T074437Z
UID:10004402-1718051400-1718062200@boomerangpoker.com.au
SUMMARY:Monday Poker Game 2
DESCRIPTION:
URL:https://boomerangpoker.com.au/event/monday-poker-game-2/2024-06-10/
LOCATION:Banksia Hotel\, 288 Princess Hwy Banksia NSW\, Banksia\, Banksia\, NSW\, Australia
ATTACH;FMTTYPE=image/jpeg:https://boomerangpoker.com.au/wp-content/uploads/2025/05/image005.jpg
END:VEVENT
BEGIN:VEVENT
DTSTART;TZID=America/Los_Angeles:20240610T190000
DTEND;TZID=America/Los_Angeles:20240610T233000
DTSTAMP:20260425T064201
CREATED:20240212T112752Z
LAST-MODIFIED:20250520T074803Z
UID:10003424-1718046000-1718062200@boomerangpoker.com.au
SUMMARY:Monday Poker Game 1
DESCRIPTION:
URL:https://boomerangpoker.com.au/event/monday-poker/2024-06-10/
LOCATION:Banksia Hotel\, 288 Princess Hwy Banksia NSW\, Banksia\, Banksia\, NSW\, Australia
ATTACH;FMTTYPE=image/jpeg:https://boomerangpoker.com.au/wp-content/uploads/2025/05/image004.jpg
END:VEVENT
BEGIN:VEVENT
DTSTART;TZID=America/Los_Angeles:20240607T203000
DTEND;TZID=America/Los_Angeles:20240607T233000
DTSTAMP:20260425T064201
CREATED:20250520T075436Z
LAST-MODIFIED:20250520T075436Z
UID:10005818-1717792200-1717803000@boomerangpoker.com.au
SUMMARY:Friday Poker Game 2
DESCRIPTION:
URL:https://boomerangpoker.com.au/event/friday-poker-game-2/2024-06-07/
LOCATION:Banksia Hotel\, 288 Princess Hwy Banksia NSW\, Banksia\, Banksia\, NSW\, Australia
ATTACH;FMTTYPE=image/png:https://boomerangpoker.com.au/wp-content/uploads/2025/05/image009.png
END:VEVENT
BEGIN:VEVENT
DTSTART;TZID=America/Los_Angeles:20240607T190000
DTEND;TZID=America/Los_Angeles:20240607T233000
DTSTAMP:20260425T064201
CREATED:20240212T112630Z
LAST-MODIFIED:20250520T075321Z
UID:10002375-1717786800-1717803000@boomerangpoker.com.au
SUMMARY:Friday Poker Game 1
DESCRIPTION:
URL:https://boomerangpoker.com.au/event/friday-poker/2024-06-07/
LOCATION:Banksia Hotel\, 288 Princess Hwy Banksia NSW\, Banksia\, Banksia\, NSW\, Australia
ATTACH;FMTTYPE=image/png:https://boomerangpoker.com.au/wp-content/uploads/2025/05/image008.png
END:VEVENT
BEGIN:VEVENT
DTSTART;TZID=America/Los_Angeles:20240605T203000
DTEND;TZID=America/Los_Angeles:20240605T233000
DTSTAMP:20260425T064201
CREATED:20250520T074957Z
LAST-MODIFIED:20250520T075139Z
UID:10005108-1717619400-1717630200@boomerangpoker.com.au
SUMMARY:Wednesday Event Game 2
DESCRIPTION:
URL:https://boomerangpoker.com.au/event/wednesday-event-game-2/2024-06-05/
LOCATION:Banksia Hotel\, 288 Princess Hwy Banksia NSW\, Banksia\, Banksia\, NSW\, Australia
ATTACH;FMTTYPE=image/jpeg:https://boomerangpoker.com.au/wp-content/uploads/2025/05/image007.jpg
END:VEVENT
BEGIN:VEVENT
DTSTART;TZID=America/Los_Angeles:20240605T190000
DTEND;TZID=America/Los_Angeles:20240605T233000
DTSTAMP:20260425T064201
CREATED:20240212T111956Z
LAST-MODIFIED:20250520T074837Z
UID:10003168-1717614000-1717630200@boomerangpoker.com.au
SUMMARY:Wednesday Event Game 1
DESCRIPTION:
URL:https://boomerangpoker.com.au/event/club-mount-lewis/2024-06-05/
LOCATION:Banksia Hotel\, 288 Princess Hwy Banksia NSW\, Banksia\, Banksia\, NSW\, Australia
ATTACH;FMTTYPE=image/jpeg:https://boomerangpoker.com.au/wp-content/uploads/2025/05/image006.jpg
END:VEVENT
BEGIN:VEVENT
DTSTART;TZID=America/Los_Angeles:20240603T203000
DTEND;TZID=America/Los_Angeles:20240603T233000
DTSTAMP:20260425T064201
CREATED:20250520T073314Z
LAST-MODIFIED:20250520T074437Z
UID:10004401-1717446600-1717457400@boomerangpoker.com.au
SUMMARY:Monday Poker Game 2
DESCRIPTION:
URL:https://boomerangpoker.com.au/event/monday-poker-game-2/2024-06-03/
LOCATION:Banksia Hotel\, 288 Princess Hwy Banksia NSW\, Banksia\, Banksia\, NSW\, Australia
ATTACH;FMTTYPE=image/jpeg:https://boomerangpoker.com.au/wp-content/uploads/2025/05/image005.jpg
END:VEVENT
BEGIN:VEVENT
DTSTART;TZID=America/Los_Angeles:20240603T190000
DTEND;TZID=America/Los_Angeles:20240603T233000
DTSTAMP:20260425T064201
CREATED:20240212T112752Z
LAST-MODIFIED:20250520T074803Z
UID:10003423-1717441200-1717457400@boomerangpoker.com.au
SUMMARY:Monday Poker Game 1
DESCRIPTION:
URL:https://boomerangpoker.com.au/event/monday-poker/2024-06-03/
LOCATION:Banksia Hotel\, 288 Princess Hwy Banksia NSW\, Banksia\, Banksia\, NSW\, Australia
ATTACH;FMTTYPE=image/jpeg:https://boomerangpoker.com.au/wp-content/uploads/2025/05/image004.jpg
END:VEVENT
BEGIN:VEVENT
DTSTART;TZID=America/Los_Angeles:20240531T203000
DTEND;TZID=America/Los_Angeles:20240531T233000
DTSTAMP:20260425T064201
CREATED:20250520T075436Z
LAST-MODIFIED:20250520T075436Z
UID:10005817-1717187400-1717198200@boomerangpoker.com.au
SUMMARY:Friday Poker Game 2
DESCRIPTION:
URL:https://boomerangpoker.com.au/event/friday-poker-game-2/2024-05-31/
LOCATION:Banksia Hotel\, 288 Princess Hwy Banksia NSW\, Banksia\, Banksia\, NSW\, Australia
ATTACH;FMTTYPE=image/png:https://boomerangpoker.com.au/wp-content/uploads/2025/05/image009.png
END:VEVENT
BEGIN:VEVENT
DTSTART;TZID=America/Los_Angeles:20240531T190000
DTEND;TZID=America/Los_Angeles:20240531T233000
DTSTAMP:20260425T064201
CREATED:20240212T112630Z
LAST-MODIFIED:20250520T075321Z
UID:10002374-1717182000-1717198200@boomerangpoker.com.au
SUMMARY:Friday Poker Game 1
DESCRIPTION:
URL:https://boomerangpoker.com.au/event/friday-poker/2024-05-31/
LOCATION:Banksia Hotel\, 288 Princess Hwy Banksia NSW\, Banksia\, Banksia\, NSW\, Australia
ATTACH;FMTTYPE=image/png:https://boomerangpoker.com.au/wp-content/uploads/2025/05/image008.png
END:VEVENT
BEGIN:VEVENT
DTSTART;TZID=America/Los_Angeles:20240529T203000
DTEND;TZID=America/Los_Angeles:20240529T233000
DTSTAMP:20260425T064201
CREATED:20250520T074957Z
LAST-MODIFIED:20250520T075139Z
UID:10005107-1717014600-1717025400@boomerangpoker.com.au
SUMMARY:Wednesday Event Game 2
DESCRIPTION:
URL:https://boomerangpoker.com.au/event/wednesday-event-game-2/2024-05-29/
LOCATION:Banksia Hotel\, 288 Princess Hwy Banksia NSW\, Banksia\, Banksia\, NSW\, Australia
ATTACH;FMTTYPE=image/jpeg:https://boomerangpoker.com.au/wp-content/uploads/2025/05/image007.jpg
END:VEVENT
BEGIN:VEVENT
DTSTART;TZID=America/Los_Angeles:20240529T190000
DTEND;TZID=America/Los_Angeles:20240529T233000
DTSTAMP:20260425T064201
CREATED:20240212T111956Z
LAST-MODIFIED:20250520T074837Z
UID:10003167-1717009200-1717025400@boomerangpoker.com.au
SUMMARY:Wednesday Event Game 1
DESCRIPTION:
URL:https://boomerangpoker.com.au/event/club-mount-lewis/2024-05-29/
LOCATION:Banksia Hotel\, 288 Princess Hwy Banksia NSW\, Banksia\, Banksia\, NSW\, Australia
ATTACH;FMTTYPE=image/jpeg:https://boomerangpoker.com.au/wp-content/uploads/2025/05/image006.jpg
END:VEVENT
BEGIN:VEVENT
DTSTART;TZID=America/Los_Angeles:20240527T203000
DTEND;TZID=America/Los_Angeles:20240527T233000
DTSTAMP:20260425T064201
CREATED:20250520T073314Z
LAST-MODIFIED:20250520T074437Z
UID:10004400-1716841800-1716852600@boomerangpoker.com.au
SUMMARY:Monday Poker Game 2
DESCRIPTION:
URL:https://boomerangpoker.com.au/event/monday-poker-game-2/2024-05-27/
LOCATION:Banksia Hotel\, 288 Princess Hwy Banksia NSW\, Banksia\, Banksia\, NSW\, Australia
ATTACH;FMTTYPE=image/jpeg:https://boomerangpoker.com.au/wp-content/uploads/2025/05/image005.jpg
END:VEVENT
BEGIN:VEVENT
DTSTART;TZID=America/Los_Angeles:20240527T190000
DTEND;TZID=America/Los_Angeles:20240527T233000
DTSTAMP:20260425T064201
CREATED:20240212T112752Z
LAST-MODIFIED:20250520T074803Z
UID:10003422-1716836400-1716852600@boomerangpoker.com.au
SUMMARY:Monday Poker Game 1
DESCRIPTION:
URL:https://boomerangpoker.com.au/event/monday-poker/2024-05-27/
LOCATION:Banksia Hotel\, 288 Princess Hwy Banksia NSW\, Banksia\, Banksia\, NSW\, Australia
ATTACH;FMTTYPE=image/jpeg:https://boomerangpoker.com.au/wp-content/uploads/2025/05/image004.jpg
END:VEVENT
BEGIN:VEVENT
DTSTART;TZID=America/Los_Angeles:20240524T203000
DTEND;TZID=America/Los_Angeles:20240524T233000
DTSTAMP:20260425T064201
CREATED:20250520T075436Z
LAST-MODIFIED:20250520T075436Z
UID:10005816-1716582600-1716593400@boomerangpoker.com.au
SUMMARY:Friday Poker Game 2
DESCRIPTION:
URL:https://boomerangpoker.com.au/event/friday-poker-game-2/2024-05-24/
LOCATION:Banksia Hotel\, 288 Princess Hwy Banksia NSW\, Banksia\, Banksia\, NSW\, Australia
ATTACH;FMTTYPE=image/png:https://boomerangpoker.com.au/wp-content/uploads/2025/05/image009.png
END:VEVENT
BEGIN:VEVENT
DTSTART;TZID=America/Los_Angeles:20240524T190000
DTEND;TZID=America/Los_Angeles:20240524T233000
DTSTAMP:20260425T064201
CREATED:20240212T112630Z
LAST-MODIFIED:20250520T075321Z
UID:10002373-1716577200-1716593400@boomerangpoker.com.au
SUMMARY:Friday Poker Game 1
DESCRIPTION:
URL:https://boomerangpoker.com.au/event/friday-poker/2024-05-24/
LOCATION:Banksia Hotel\, 288 Princess Hwy Banksia NSW\, Banksia\, Banksia\, NSW\, Australia
ATTACH;FMTTYPE=image/png:https://boomerangpoker.com.au/wp-content/uploads/2025/05/image008.png
END:VEVENT
BEGIN:VEVENT
DTSTART;TZID=America/Los_Angeles:20240522T203000
DTEND;TZID=America/Los_Angeles:20240522T233000
DTSTAMP:20260425T064201
CREATED:20250520T074957Z
LAST-MODIFIED:20250520T075139Z
UID:10005106-1716409800-1716420600@boomerangpoker.com.au
SUMMARY:Wednesday Event Game 2
DESCRIPTION:
URL:https://boomerangpoker.com.au/event/wednesday-event-game-2/2024-05-22/
LOCATION:Banksia Hotel\, 288 Princess Hwy Banksia NSW\, Banksia\, Banksia\, NSW\, Australia
ATTACH;FMTTYPE=image/jpeg:https://boomerangpoker.com.au/wp-content/uploads/2025/05/image007.jpg
END:VEVENT
BEGIN:VEVENT
DTSTART;TZID=America/Los_Angeles:20240522T190000
DTEND;TZID=America/Los_Angeles:20240522T233000
DTSTAMP:20260425T064201
CREATED:20240212T111956Z
LAST-MODIFIED:20250520T074837Z
UID:10003166-1716404400-1716420600@boomerangpoker.com.au
SUMMARY:Wednesday Event Game 1
DESCRIPTION:
URL:https://boomerangpoker.com.au/event/club-mount-lewis/2024-05-22/
LOCATION:Banksia Hotel\, 288 Princess Hwy Banksia NSW\, Banksia\, Banksia\, NSW\, Australia
ATTACH;FMTTYPE=image/jpeg:https://boomerangpoker.com.au/wp-content/uploads/2025/05/image006.jpg
END:VEVENT
END:VCALENDAR