BEGIN:VCALENDAR
VERSION:2.0
PRODID:-//Boomerang - ECPv6.3.6//NONSGML v1.0//EN
CALSCALE:GREGORIAN
METHOD:PUBLISH
X-WR-CALNAME:Boomerang
X-ORIGINAL-URL:https://boomerangpoker.com.au
X-WR-CALDESC:Events for Boomerang
REFRESH-INTERVAL;VALUE=DURATION:PT1H
X-Robots-Tag:noindex
X-PUBLISHED-TTL:PT1H
BEGIN:VTIMEZONE
TZID:America/Los_Angeles
BEGIN:DAYLIGHT
TZOFFSETFROM:-0800
TZOFFSETTO:-0700
TZNAME:PDT
DTSTART:20270314T100000
END:DAYLIGHT
BEGIN:STANDARD
TZOFFSETFROM:-0700
TZOFFSETTO:-0800
TZNAME:PST
DTSTART:20271107T090000
END:STANDARD
BEGIN:DAYLIGHT
TZOFFSETFROM:-0800
TZOFFSETTO:-0700
TZNAME:PDT
DTSTART:20280312T100000
END:DAYLIGHT
BEGIN:STANDARD
TZOFFSETFROM:-0700
TZOFFSETTO:-0800
TZNAME:PST
DTSTART:20281105T090000
END:STANDARD
END:VTIMEZONE
BEGIN:VEVENT
DTSTART;TZID=America/Los_Angeles:20271229T190000
DTEND;TZID=America/Los_Angeles:20271229T233000
DTSTAMP:20260422T160440
CREATED:20240212T111956Z
LAST-MODIFIED:20250520T074837Z
UID:10003354-1830106800-1830123000@boomerangpoker.com.au
SUMMARY:Wednesday Event Game 1
DESCRIPTION:
URL:https://boomerangpoker.com.au/event/club-mount-lewis/2027-12-29/
LOCATION:Banksia Hotel\, 288 Princess Hwy Banksia NSW\, Banksia\, Banksia\, NSW\, Australia
ATTACH;FMTTYPE=image/jpeg:https://boomerangpoker.com.au/wp-content/uploads/2025/05/image006.jpg
END:VEVENT
BEGIN:VEVENT
DTSTART;TZID=America/Los_Angeles:20271229T203000
DTEND;TZID=America/Los_Angeles:20271229T233000
DTSTAMP:20260422T160440
CREATED:20250520T074957Z
LAST-MODIFIED:20250520T075139Z
UID:10005294-1830112200-1830123000@boomerangpoker.com.au
SUMMARY:Wednesday Event Game 2
DESCRIPTION:
URL:https://boomerangpoker.com.au/event/wednesday-event-game-2/2027-12-29/
LOCATION:Banksia Hotel\, 288 Princess Hwy Banksia NSW\, Banksia\, Banksia\, NSW\, Australia
ATTACH;FMTTYPE=image/jpeg:https://boomerangpoker.com.au/wp-content/uploads/2025/05/image007.jpg
END:VEVENT
BEGIN:VEVENT
DTSTART;TZID=America/Los_Angeles:20271231T190000
DTEND;TZID=America/Los_Angeles:20271231T233000
DTSTAMP:20260422T160440
CREATED:20240212T112630Z
LAST-MODIFIED:20250520T075321Z
UID:10002561-1830279600-1830295800@boomerangpoker.com.au
SUMMARY:Friday Poker Game 1
DESCRIPTION:
URL:https://boomerangpoker.com.au/event/friday-poker/2027-12-31/
LOCATION:Banksia Hotel\, 288 Princess Hwy Banksia NSW\, Banksia\, Banksia\, NSW\, Australia
ATTACH;FMTTYPE=image/png:https://boomerangpoker.com.au/wp-content/uploads/2025/05/image008.png
END:VEVENT
BEGIN:VEVENT
DTSTART;TZID=America/Los_Angeles:20271231T203000
DTEND;TZID=America/Los_Angeles:20271231T233000
DTSTAMP:20260422T160440
CREATED:20250520T075436Z
LAST-MODIFIED:20250520T075436Z
UID:10006004-1830285000-1830295800@boomerangpoker.com.au
SUMMARY:Friday Poker Game 2
DESCRIPTION:
URL:https://boomerangpoker.com.au/event/friday-poker-game-2/2027-12-31/
LOCATION:Banksia Hotel\, 288 Princess Hwy Banksia NSW\, Banksia\, Banksia\, NSW\, Australia
ATTACH;FMTTYPE=image/png:https://boomerangpoker.com.au/wp-content/uploads/2025/05/image009.png
END:VEVENT
BEGIN:VEVENT
DTSTART;TZID=America/Los_Angeles:20280103T190000
DTEND;TZID=America/Los_Angeles:20280103T233000
DTSTAMP:20260422T160440
CREATED:20240212T112752Z
LAST-MODIFIED:20250520T074803Z
UID:10003610-1830538800-1830555000@boomerangpoker.com.au
SUMMARY:Monday Poker Game 1
DESCRIPTION:
URL:https://boomerangpoker.com.au/event/monday-poker/2028-01-03/
LOCATION:Banksia Hotel\, 288 Princess Hwy Banksia NSW\, Banksia\, Banksia\, NSW\, Australia
ATTACH;FMTTYPE=image/jpeg:https://boomerangpoker.com.au/wp-content/uploads/2025/05/image004.jpg
END:VEVENT
BEGIN:VEVENT
DTSTART;TZID=America/Los_Angeles:20280103T203000
DTEND;TZID=America/Los_Angeles:20280103T233000
DTSTAMP:20260422T160440
CREATED:20250520T073314Z
LAST-MODIFIED:20250520T074437Z
UID:10004588-1830544200-1830555000@boomerangpoker.com.au
SUMMARY:Monday Poker Game 2
DESCRIPTION:
URL:https://boomerangpoker.com.au/event/monday-poker-game-2/2028-01-03/
LOCATION:Banksia Hotel\, 288 Princess Hwy Banksia NSW\, Banksia\, Banksia\, NSW\, Australia
ATTACH;FMTTYPE=image/jpeg:https://boomerangpoker.com.au/wp-content/uploads/2025/05/image005.jpg
END:VEVENT
BEGIN:VEVENT
DTSTART;TZID=America/Los_Angeles:20280105T190000
DTEND;TZID=America/Los_Angeles:20280105T233000
DTSTAMP:20260422T160440
CREATED:20240212T111956Z
LAST-MODIFIED:20250520T074837Z
UID:10003355-1830711600-1830727800@boomerangpoker.com.au
SUMMARY:Wednesday Event Game 1
DESCRIPTION:
URL:https://boomerangpoker.com.au/event/club-mount-lewis/2028-01-05/
LOCATION:Banksia Hotel\, 288 Princess Hwy Banksia NSW\, Banksia\, Banksia\, NSW\, Australia
ATTACH;FMTTYPE=image/jpeg:https://boomerangpoker.com.au/wp-content/uploads/2025/05/image006.jpg
END:VEVENT
BEGIN:VEVENT
DTSTART;TZID=America/Los_Angeles:20280105T203000
DTEND;TZID=America/Los_Angeles:20280105T233000
DTSTAMP:20260422T160440
CREATED:20250520T074957Z
LAST-MODIFIED:20250520T075139Z
UID:10005295-1830717000-1830727800@boomerangpoker.com.au
SUMMARY:Wednesday Event Game 2
DESCRIPTION:
URL:https://boomerangpoker.com.au/event/wednesday-event-game-2/2028-01-05/
LOCATION:Banksia Hotel\, 288 Princess Hwy Banksia NSW\, Banksia\, Banksia\, NSW\, Australia
ATTACH;FMTTYPE=image/jpeg:https://boomerangpoker.com.au/wp-content/uploads/2025/05/image007.jpg
END:VEVENT
BEGIN:VEVENT
DTSTART;TZID=America/Los_Angeles:20280107T190000
DTEND;TZID=America/Los_Angeles:20280107T233000
DTSTAMP:20260422T160440
CREATED:20240212T112630Z
LAST-MODIFIED:20250520T075321Z
UID:10002562-1830884400-1830900600@boomerangpoker.com.au
SUMMARY:Friday Poker Game 1
DESCRIPTION:
URL:https://boomerangpoker.com.au/event/friday-poker/2028-01-07/
LOCATION:Banksia Hotel\, 288 Princess Hwy Banksia NSW\, Banksia\, Banksia\, NSW\, Australia
ATTACH;FMTTYPE=image/png:https://boomerangpoker.com.au/wp-content/uploads/2025/05/image008.png
END:VEVENT
BEGIN:VEVENT
DTSTART;TZID=America/Los_Angeles:20280107T203000
DTEND;TZID=America/Los_Angeles:20280107T233000
DTSTAMP:20260422T160440
CREATED:20250520T075436Z
LAST-MODIFIED:20250520T075436Z
UID:10006005-1830889800-1830900600@boomerangpoker.com.au
SUMMARY:Friday Poker Game 2
DESCRIPTION:
URL:https://boomerangpoker.com.au/event/friday-poker-game-2/2028-01-07/
LOCATION:Banksia Hotel\, 288 Princess Hwy Banksia NSW\, Banksia\, Banksia\, NSW\, Australia
ATTACH;FMTTYPE=image/png:https://boomerangpoker.com.au/wp-content/uploads/2025/05/image009.png
END:VEVENT
BEGIN:VEVENT
DTSTART;TZID=America/Los_Angeles:20280110T190000
DTEND;TZID=America/Los_Angeles:20280110T233000
DTSTAMP:20260422T160440
CREATED:20240212T112752Z
LAST-MODIFIED:20250520T074803Z
UID:10003611-1831143600-1831159800@boomerangpoker.com.au
SUMMARY:Monday Poker Game 1
DESCRIPTION:
URL:https://boomerangpoker.com.au/event/monday-poker/2028-01-10/
LOCATION:Banksia Hotel\, 288 Princess Hwy Banksia NSW\, Banksia\, Banksia\, NSW\, Australia
ATTACH;FMTTYPE=image/jpeg:https://boomerangpoker.com.au/wp-content/uploads/2025/05/image004.jpg
END:VEVENT
BEGIN:VEVENT
DTSTART;TZID=America/Los_Angeles:20280110T203000
DTEND;TZID=America/Los_Angeles:20280110T233000
DTSTAMP:20260422T160440
CREATED:20250520T073314Z
LAST-MODIFIED:20250520T074437Z
UID:10004589-1831149000-1831159800@boomerangpoker.com.au
SUMMARY:Monday Poker Game 2
DESCRIPTION:
URL:https://boomerangpoker.com.au/event/monday-poker-game-2/2028-01-10/
LOCATION:Banksia Hotel\, 288 Princess Hwy Banksia NSW\, Banksia\, Banksia\, NSW\, Australia
ATTACH;FMTTYPE=image/jpeg:https://boomerangpoker.com.au/wp-content/uploads/2025/05/image005.jpg
END:VEVENT
BEGIN:VEVENT
DTSTART;TZID=America/Los_Angeles:20280112T190000
DTEND;TZID=America/Los_Angeles:20280112T233000
DTSTAMP:20260422T160440
CREATED:20240212T111956Z
LAST-MODIFIED:20250520T074837Z
UID:10003356-1831316400-1831332600@boomerangpoker.com.au
SUMMARY:Wednesday Event Game 1
DESCRIPTION:
URL:https://boomerangpoker.com.au/event/club-mount-lewis/2028-01-12/
LOCATION:Banksia Hotel\, 288 Princess Hwy Banksia NSW\, Banksia\, Banksia\, NSW\, Australia
ATTACH;FMTTYPE=image/jpeg:https://boomerangpoker.com.au/wp-content/uploads/2025/05/image006.jpg
END:VEVENT
BEGIN:VEVENT
DTSTART;TZID=America/Los_Angeles:20280112T203000
DTEND;TZID=America/Los_Angeles:20280112T233000
DTSTAMP:20260422T160440
CREATED:20250520T074957Z
LAST-MODIFIED:20250520T075139Z
UID:10005296-1831321800-1831332600@boomerangpoker.com.au
SUMMARY:Wednesday Event Game 2
DESCRIPTION:
URL:https://boomerangpoker.com.au/event/wednesday-event-game-2/2028-01-12/
LOCATION:Banksia Hotel\, 288 Princess Hwy Banksia NSW\, Banksia\, Banksia\, NSW\, Australia
ATTACH;FMTTYPE=image/jpeg:https://boomerangpoker.com.au/wp-content/uploads/2025/05/image007.jpg
END:VEVENT
BEGIN:VEVENT
DTSTART;TZID=America/Los_Angeles:20280114T190000
DTEND;TZID=America/Los_Angeles:20280114T233000
DTSTAMP:20260422T160440
CREATED:20240212T112630Z
LAST-MODIFIED:20250520T075321Z
UID:10002563-1831489200-1831505400@boomerangpoker.com.au
SUMMARY:Friday Poker Game 1
DESCRIPTION:
URL:https://boomerangpoker.com.au/event/friday-poker/2028-01-14/
LOCATION:Banksia Hotel\, 288 Princess Hwy Banksia NSW\, Banksia\, Banksia\, NSW\, Australia
ATTACH;FMTTYPE=image/png:https://boomerangpoker.com.au/wp-content/uploads/2025/05/image008.png
END:VEVENT
BEGIN:VEVENT
DTSTART;TZID=America/Los_Angeles:20280114T203000
DTEND;TZID=America/Los_Angeles:20280114T233000
DTSTAMP:20260422T160440
CREATED:20250520T075436Z
LAST-MODIFIED:20250520T075436Z
UID:10006006-1831494600-1831505400@boomerangpoker.com.au
SUMMARY:Friday Poker Game 2
DESCRIPTION:
URL:https://boomerangpoker.com.au/event/friday-poker-game-2/2028-01-14/
LOCATION:Banksia Hotel\, 288 Princess Hwy Banksia NSW\, Banksia\, Banksia\, NSW\, Australia
ATTACH;FMTTYPE=image/png:https://boomerangpoker.com.au/wp-content/uploads/2025/05/image009.png
END:VEVENT
BEGIN:VEVENT
DTSTART;TZID=America/Los_Angeles:20280117T190000
DTEND;TZID=America/Los_Angeles:20280117T233000
DTSTAMP:20260422T160440
CREATED:20240212T112752Z
LAST-MODIFIED:20250520T074803Z
UID:10003612-1831748400-1831764600@boomerangpoker.com.au
SUMMARY:Monday Poker Game 1
DESCRIPTION:
URL:https://boomerangpoker.com.au/event/monday-poker/2028-01-17/
LOCATION:Banksia Hotel\, 288 Princess Hwy Banksia NSW\, Banksia\, Banksia\, NSW\, Australia
ATTACH;FMTTYPE=image/jpeg:https://boomerangpoker.com.au/wp-content/uploads/2025/05/image004.jpg
END:VEVENT
BEGIN:VEVENT
DTSTART;TZID=America/Los_Angeles:20280117T203000
DTEND;TZID=America/Los_Angeles:20280117T233000
DTSTAMP:20260422T160440
CREATED:20250520T073314Z
LAST-MODIFIED:20250520T074437Z
UID:10004590-1831753800-1831764600@boomerangpoker.com.au
SUMMARY:Monday Poker Game 2
DESCRIPTION:
URL:https://boomerangpoker.com.au/event/monday-poker-game-2/2028-01-17/
LOCATION:Banksia Hotel\, 288 Princess Hwy Banksia NSW\, Banksia\, Banksia\, NSW\, Australia
ATTACH;FMTTYPE=image/jpeg:https://boomerangpoker.com.au/wp-content/uploads/2025/05/image005.jpg
END:VEVENT
BEGIN:VEVENT
DTSTART;TZID=America/Los_Angeles:20280119T190000
DTEND;TZID=America/Los_Angeles:20280119T233000
DTSTAMP:20260422T160440
CREATED:20240212T111956Z
LAST-MODIFIED:20250520T074837Z
UID:10003357-1831921200-1831937400@boomerangpoker.com.au
SUMMARY:Wednesday Event Game 1
DESCRIPTION:
URL:https://boomerangpoker.com.au/event/club-mount-lewis/2028-01-19/
LOCATION:Banksia Hotel\, 288 Princess Hwy Banksia NSW\, Banksia\, Banksia\, NSW\, Australia
ATTACH;FMTTYPE=image/jpeg:https://boomerangpoker.com.au/wp-content/uploads/2025/05/image006.jpg
END:VEVENT
BEGIN:VEVENT
DTSTART;TZID=America/Los_Angeles:20280119T203000
DTEND;TZID=America/Los_Angeles:20280119T233000
DTSTAMP:20260422T160440
CREATED:20250520T074957Z
LAST-MODIFIED:20250520T075139Z
UID:10005297-1831926600-1831937400@boomerangpoker.com.au
SUMMARY:Wednesday Event Game 2
DESCRIPTION:
URL:https://boomerangpoker.com.au/event/wednesday-event-game-2/2028-01-19/
LOCATION:Banksia Hotel\, 288 Princess Hwy Banksia NSW\, Banksia\, Banksia\, NSW\, Australia
ATTACH;FMTTYPE=image/jpeg:https://boomerangpoker.com.au/wp-content/uploads/2025/05/image007.jpg
END:VEVENT
BEGIN:VEVENT
DTSTART;TZID=America/Los_Angeles:20280121T190000
DTEND;TZID=America/Los_Angeles:20280121T233000
DTSTAMP:20260422T160440
CREATED:20240212T112630Z
LAST-MODIFIED:20250520T075321Z
UID:10002564-1832094000-1832110200@boomerangpoker.com.au
SUMMARY:Friday Poker Game 1
DESCRIPTION:
URL:https://boomerangpoker.com.au/event/friday-poker/2028-01-21/
LOCATION:Banksia Hotel\, 288 Princess Hwy Banksia NSW\, Banksia\, Banksia\, NSW\, Australia
ATTACH;FMTTYPE=image/png:https://boomerangpoker.com.au/wp-content/uploads/2025/05/image008.png
END:VEVENT
BEGIN:VEVENT
DTSTART;TZID=America/Los_Angeles:20280121T203000
DTEND;TZID=America/Los_Angeles:20280121T233000
DTSTAMP:20260422T160440
CREATED:20250520T075436Z
LAST-MODIFIED:20250520T075436Z
UID:10006007-1832099400-1832110200@boomerangpoker.com.au
SUMMARY:Friday Poker Game 2
DESCRIPTION:
URL:https://boomerangpoker.com.au/event/friday-poker-game-2/2028-01-21/
LOCATION:Banksia Hotel\, 288 Princess Hwy Banksia NSW\, Banksia\, Banksia\, NSW\, Australia
ATTACH;FMTTYPE=image/png:https://boomerangpoker.com.au/wp-content/uploads/2025/05/image009.png
END:VEVENT
BEGIN:VEVENT
DTSTART;TZID=America/Los_Angeles:20280124T190000
DTEND;TZID=America/Los_Angeles:20280124T233000
DTSTAMP:20260422T160440
CREATED:20240212T112752Z
LAST-MODIFIED:20250520T074803Z
UID:10003613-1832353200-1832369400@boomerangpoker.com.au
SUMMARY:Monday Poker Game 1
DESCRIPTION:
URL:https://boomerangpoker.com.au/event/monday-poker/2028-01-24/
LOCATION:Banksia Hotel\, 288 Princess Hwy Banksia NSW\, Banksia\, Banksia\, NSW\, Australia
ATTACH;FMTTYPE=image/jpeg:https://boomerangpoker.com.au/wp-content/uploads/2025/05/image004.jpg
END:VEVENT
BEGIN:VEVENT
DTSTART;TZID=America/Los_Angeles:20280124T203000
DTEND;TZID=America/Los_Angeles:20280124T233000
DTSTAMP:20260422T160440
CREATED:20250520T073314Z
LAST-MODIFIED:20250520T074437Z
UID:10004591-1832358600-1832369400@boomerangpoker.com.au
SUMMARY:Monday Poker Game 2
DESCRIPTION:
URL:https://boomerangpoker.com.au/event/monday-poker-game-2/2028-01-24/
LOCATION:Banksia Hotel\, 288 Princess Hwy Banksia NSW\, Banksia\, Banksia\, NSW\, Australia
ATTACH;FMTTYPE=image/jpeg:https://boomerangpoker.com.au/wp-content/uploads/2025/05/image005.jpg
END:VEVENT
BEGIN:VEVENT
DTSTART;TZID=America/Los_Angeles:20280126T190000
DTEND;TZID=America/Los_Angeles:20280126T233000
DTSTAMP:20260422T160440
CREATED:20240212T111956Z
LAST-MODIFIED:20250520T074837Z
UID:10003358-1832526000-1832542200@boomerangpoker.com.au
SUMMARY:Wednesday Event Game 1
DESCRIPTION:
URL:https://boomerangpoker.com.au/event/club-mount-lewis/2028-01-26/
LOCATION:Banksia Hotel\, 288 Princess Hwy Banksia NSW\, Banksia\, Banksia\, NSW\, Australia
ATTACH;FMTTYPE=image/jpeg:https://boomerangpoker.com.au/wp-content/uploads/2025/05/image006.jpg
END:VEVENT
BEGIN:VEVENT
DTSTART;TZID=America/Los_Angeles:20280126T203000
DTEND;TZID=America/Los_Angeles:20280126T233000
DTSTAMP:20260422T160440
CREATED:20250520T074957Z
LAST-MODIFIED:20250520T075139Z
UID:10005298-1832531400-1832542200@boomerangpoker.com.au
SUMMARY:Wednesday Event Game 2
DESCRIPTION:
URL:https://boomerangpoker.com.au/event/wednesday-event-game-2/2028-01-26/
LOCATION:Banksia Hotel\, 288 Princess Hwy Banksia NSW\, Banksia\, Banksia\, NSW\, Australia
ATTACH;FMTTYPE=image/jpeg:https://boomerangpoker.com.au/wp-content/uploads/2025/05/image007.jpg
END:VEVENT
BEGIN:VEVENT
DTSTART;TZID=America/Los_Angeles:20280128T190000
DTEND;TZID=America/Los_Angeles:20280128T233000
DTSTAMP:20260422T160440
CREATED:20240212T112630Z
LAST-MODIFIED:20250520T075321Z
UID:10002565-1832698800-1832715000@boomerangpoker.com.au
SUMMARY:Friday Poker Game 1
DESCRIPTION:
URL:https://boomerangpoker.com.au/event/friday-poker/2028-01-28/
LOCATION:Banksia Hotel\, 288 Princess Hwy Banksia NSW\, Banksia\, Banksia\, NSW\, Australia
ATTACH;FMTTYPE=image/png:https://boomerangpoker.com.au/wp-content/uploads/2025/05/image008.png
END:VEVENT
BEGIN:VEVENT
DTSTART;TZID=America/Los_Angeles:20280128T203000
DTEND;TZID=America/Los_Angeles:20280128T233000
DTSTAMP:20260422T160440
CREATED:20250520T075436Z
LAST-MODIFIED:20250520T075436Z
UID:10006008-1832704200-1832715000@boomerangpoker.com.au
SUMMARY:Friday Poker Game 2
DESCRIPTION:
URL:https://boomerangpoker.com.au/event/friday-poker-game-2/2028-01-28/
LOCATION:Banksia Hotel\, 288 Princess Hwy Banksia NSW\, Banksia\, Banksia\, NSW\, Australia
ATTACH;FMTTYPE=image/png:https://boomerangpoker.com.au/wp-content/uploads/2025/05/image009.png
END:VEVENT
BEGIN:VEVENT
DTSTART;TZID=America/Los_Angeles:20280131T190000
DTEND;TZID=America/Los_Angeles:20280131T233000
DTSTAMP:20260422T160440
CREATED:20240212T112752Z
LAST-MODIFIED:20250520T074803Z
UID:10003614-1832958000-1832974200@boomerangpoker.com.au
SUMMARY:Monday Poker Game 1
DESCRIPTION:
URL:https://boomerangpoker.com.au/event/monday-poker/2028-01-31/
LOCATION:Banksia Hotel\, 288 Princess Hwy Banksia NSW\, Banksia\, Banksia\, NSW\, Australia
ATTACH;FMTTYPE=image/jpeg:https://boomerangpoker.com.au/wp-content/uploads/2025/05/image004.jpg
END:VEVENT
BEGIN:VEVENT
DTSTART;TZID=America/Los_Angeles:20280131T203000
DTEND;TZID=America/Los_Angeles:20280131T233000
DTSTAMP:20260422T160440
CREATED:20250520T073314Z
LAST-MODIFIED:20250520T074437Z
UID:10004592-1832963400-1832974200@boomerangpoker.com.au
SUMMARY:Monday Poker Game 2
DESCRIPTION:
URL:https://boomerangpoker.com.au/event/monday-poker-game-2/2028-01-31/
LOCATION:Banksia Hotel\, 288 Princess Hwy Banksia NSW\, Banksia\, Banksia\, NSW\, Australia
ATTACH;FMTTYPE=image/jpeg:https://boomerangpoker.com.au/wp-content/uploads/2025/05/image005.jpg
END:VEVENT
END:VCALENDAR