BEGIN:VCALENDAR
VERSION:2.0
PRODID:-//Boomerang - ECPv6.3.6//NONSGML v1.0//EN
CALSCALE:GREGORIAN
METHOD:PUBLISH
X-WR-CALNAME:Boomerang
X-ORIGINAL-URL:https://boomerangpoker.com.au
X-WR-CALDESC:Events for Boomerang
REFRESH-INTERVAL;VALUE=DURATION:PT1H
X-Robots-Tag:noindex
X-PUBLISHED-TTL:PT1H
BEGIN:VTIMEZONE
TZID:America/Los_Angeles
BEGIN:DAYLIGHT
TZOFFSETFROM:-0800
TZOFFSETTO:-0700
TZNAME:PDT
DTSTART:20270314T100000
END:DAYLIGHT
BEGIN:STANDARD
TZOFFSETFROM:-0700
TZOFFSETTO:-0800
TZNAME:PST
DTSTART:20271107T090000
END:STANDARD
END:VTIMEZONE
BEGIN:VEVENT
DTSTART;TZID=America/Los_Angeles:20270616T190000
DTEND;TZID=America/Los_Angeles:20270616T233000
DTSTAMP:20260421T145141
CREATED:20240212T111956Z
LAST-MODIFIED:20250520T074837Z
UID:10003326-1813172400-1813188600@boomerangpoker.com.au
SUMMARY:Wednesday Event Game 1
DESCRIPTION:
URL:https://boomerangpoker.com.au/event/club-mount-lewis/2027-06-16/
LOCATION:Banksia Hotel\, 288 Princess Hwy Banksia NSW\, Banksia\, Banksia\, NSW\, Australia
ATTACH;FMTTYPE=image/jpeg:https://boomerangpoker.com.au/wp-content/uploads/2025/05/image006.jpg
END:VEVENT
BEGIN:VEVENT
DTSTART;TZID=America/Los_Angeles:20270616T203000
DTEND;TZID=America/Los_Angeles:20270616T233000
DTSTAMP:20260421T145141
CREATED:20250520T074957Z
LAST-MODIFIED:20250520T075139Z
UID:10005266-1813177800-1813188600@boomerangpoker.com.au
SUMMARY:Wednesday Event Game 2
DESCRIPTION:
URL:https://boomerangpoker.com.au/event/wednesday-event-game-2/2027-06-16/
LOCATION:Banksia Hotel\, 288 Princess Hwy Banksia NSW\, Banksia\, Banksia\, NSW\, Australia
ATTACH;FMTTYPE=image/jpeg:https://boomerangpoker.com.au/wp-content/uploads/2025/05/image007.jpg
END:VEVENT
BEGIN:VEVENT
DTSTART;TZID=America/Los_Angeles:20270618T190000
DTEND;TZID=America/Los_Angeles:20270618T233000
DTSTAMP:20260421T145141
CREATED:20240212T112630Z
LAST-MODIFIED:20250520T075321Z
UID:10002533-1813345200-1813361400@boomerangpoker.com.au
SUMMARY:Friday Poker Game 1
DESCRIPTION:
URL:https://boomerangpoker.com.au/event/friday-poker/2027-06-18/
LOCATION:Banksia Hotel\, 288 Princess Hwy Banksia NSW\, Banksia\, Banksia\, NSW\, Australia
ATTACH;FMTTYPE=image/png:https://boomerangpoker.com.au/wp-content/uploads/2025/05/image008.png
END:VEVENT
BEGIN:VEVENT
DTSTART;TZID=America/Los_Angeles:20270618T203000
DTEND;TZID=America/Los_Angeles:20270618T233000
DTSTAMP:20260421T145141
CREATED:20250520T075436Z
LAST-MODIFIED:20250520T075436Z
UID:10005976-1813350600-1813361400@boomerangpoker.com.au
SUMMARY:Friday Poker Game 2
DESCRIPTION:
URL:https://boomerangpoker.com.au/event/friday-poker-game-2/2027-06-18/
LOCATION:Banksia Hotel\, 288 Princess Hwy Banksia NSW\, Banksia\, Banksia\, NSW\, Australia
ATTACH;FMTTYPE=image/png:https://boomerangpoker.com.au/wp-content/uploads/2025/05/image009.png
END:VEVENT
BEGIN:VEVENT
DTSTART;TZID=America/Los_Angeles:20270621T190000
DTEND;TZID=America/Los_Angeles:20270621T233000
DTSTAMP:20260421T145141
CREATED:20240212T112752Z
LAST-MODIFIED:20250520T074803Z
UID:10003582-1813604400-1813620600@boomerangpoker.com.au
SUMMARY:Monday Poker Game 1
DESCRIPTION:
URL:https://boomerangpoker.com.au/event/monday-poker/2027-06-21/
LOCATION:Banksia Hotel\, 288 Princess Hwy Banksia NSW\, Banksia\, Banksia\, NSW\, Australia
ATTACH;FMTTYPE=image/jpeg:https://boomerangpoker.com.au/wp-content/uploads/2025/05/image004.jpg
END:VEVENT
BEGIN:VEVENT
DTSTART;TZID=America/Los_Angeles:20270621T203000
DTEND;TZID=America/Los_Angeles:20270621T233000
DTSTAMP:20260421T145141
CREATED:20250520T073314Z
LAST-MODIFIED:20250520T074437Z
UID:10004560-1813609800-1813620600@boomerangpoker.com.au
SUMMARY:Monday Poker Game 2
DESCRIPTION:
URL:https://boomerangpoker.com.au/event/monday-poker-game-2/2027-06-21/
LOCATION:Banksia Hotel\, 288 Princess Hwy Banksia NSW\, Banksia\, Banksia\, NSW\, Australia
ATTACH;FMTTYPE=image/jpeg:https://boomerangpoker.com.au/wp-content/uploads/2025/05/image005.jpg
END:VEVENT
BEGIN:VEVENT
DTSTART;TZID=America/Los_Angeles:20270623T190000
DTEND;TZID=America/Los_Angeles:20270623T233000
DTSTAMP:20260421T145141
CREATED:20240212T111956Z
LAST-MODIFIED:20250520T074837Z
UID:10003327-1813777200-1813793400@boomerangpoker.com.au
SUMMARY:Wednesday Event Game 1
DESCRIPTION:
URL:https://boomerangpoker.com.au/event/club-mount-lewis/2027-06-23/
LOCATION:Banksia Hotel\, 288 Princess Hwy Banksia NSW\, Banksia\, Banksia\, NSW\, Australia
ATTACH;FMTTYPE=image/jpeg:https://boomerangpoker.com.au/wp-content/uploads/2025/05/image006.jpg
END:VEVENT
BEGIN:VEVENT
DTSTART;TZID=America/Los_Angeles:20270623T203000
DTEND;TZID=America/Los_Angeles:20270623T233000
DTSTAMP:20260421T145141
CREATED:20250520T074957Z
LAST-MODIFIED:20250520T075139Z
UID:10005267-1813782600-1813793400@boomerangpoker.com.au
SUMMARY:Wednesday Event Game 2
DESCRIPTION:
URL:https://boomerangpoker.com.au/event/wednesday-event-game-2/2027-06-23/
LOCATION:Banksia Hotel\, 288 Princess Hwy Banksia NSW\, Banksia\, Banksia\, NSW\, Australia
ATTACH;FMTTYPE=image/jpeg:https://boomerangpoker.com.au/wp-content/uploads/2025/05/image007.jpg
END:VEVENT
BEGIN:VEVENT
DTSTART;TZID=America/Los_Angeles:20270625T190000
DTEND;TZID=America/Los_Angeles:20270625T233000
DTSTAMP:20260421T145141
CREATED:20240212T112630Z
LAST-MODIFIED:20250520T075321Z
UID:10002534-1813950000-1813966200@boomerangpoker.com.au
SUMMARY:Friday Poker Game 1
DESCRIPTION:
URL:https://boomerangpoker.com.au/event/friday-poker/2027-06-25/
LOCATION:Banksia Hotel\, 288 Princess Hwy Banksia NSW\, Banksia\, Banksia\, NSW\, Australia
ATTACH;FMTTYPE=image/png:https://boomerangpoker.com.au/wp-content/uploads/2025/05/image008.png
END:VEVENT
BEGIN:VEVENT
DTSTART;TZID=America/Los_Angeles:20270625T203000
DTEND;TZID=America/Los_Angeles:20270625T233000
DTSTAMP:20260421T145141
CREATED:20250520T075436Z
LAST-MODIFIED:20250520T075436Z
UID:10005977-1813955400-1813966200@boomerangpoker.com.au
SUMMARY:Friday Poker Game 2
DESCRIPTION:
URL:https://boomerangpoker.com.au/event/friday-poker-game-2/2027-06-25/
LOCATION:Banksia Hotel\, 288 Princess Hwy Banksia NSW\, Banksia\, Banksia\, NSW\, Australia
ATTACH;FMTTYPE=image/png:https://boomerangpoker.com.au/wp-content/uploads/2025/05/image009.png
END:VEVENT
BEGIN:VEVENT
DTSTART;TZID=America/Los_Angeles:20270628T190000
DTEND;TZID=America/Los_Angeles:20270628T233000
DTSTAMP:20260421T145141
CREATED:20240212T112752Z
LAST-MODIFIED:20250520T074803Z
UID:10003583-1814209200-1814225400@boomerangpoker.com.au
SUMMARY:Monday Poker Game 1
DESCRIPTION:
URL:https://boomerangpoker.com.au/event/monday-poker/2027-06-28/
LOCATION:Banksia Hotel\, 288 Princess Hwy Banksia NSW\, Banksia\, Banksia\, NSW\, Australia
ATTACH;FMTTYPE=image/jpeg:https://boomerangpoker.com.au/wp-content/uploads/2025/05/image004.jpg
END:VEVENT
BEGIN:VEVENT
DTSTART;TZID=America/Los_Angeles:20270628T203000
DTEND;TZID=America/Los_Angeles:20270628T233000
DTSTAMP:20260421T145141
CREATED:20250520T073314Z
LAST-MODIFIED:20250520T074437Z
UID:10004561-1814214600-1814225400@boomerangpoker.com.au
SUMMARY:Monday Poker Game 2
DESCRIPTION:
URL:https://boomerangpoker.com.au/event/monday-poker-game-2/2027-06-28/
LOCATION:Banksia Hotel\, 288 Princess Hwy Banksia NSW\, Banksia\, Banksia\, NSW\, Australia
ATTACH;FMTTYPE=image/jpeg:https://boomerangpoker.com.au/wp-content/uploads/2025/05/image005.jpg
END:VEVENT
BEGIN:VEVENT
DTSTART;TZID=America/Los_Angeles:20270630T190000
DTEND;TZID=America/Los_Angeles:20270630T233000
DTSTAMP:20260421T145141
CREATED:20240212T111956Z
LAST-MODIFIED:20250520T074837Z
UID:10003328-1814382000-1814398200@boomerangpoker.com.au
SUMMARY:Wednesday Event Game 1
DESCRIPTION:
URL:https://boomerangpoker.com.au/event/club-mount-lewis/2027-06-30/
LOCATION:Banksia Hotel\, 288 Princess Hwy Banksia NSW\, Banksia\, Banksia\, NSW\, Australia
ATTACH;FMTTYPE=image/jpeg:https://boomerangpoker.com.au/wp-content/uploads/2025/05/image006.jpg
END:VEVENT
BEGIN:VEVENT
DTSTART;TZID=America/Los_Angeles:20270630T203000
DTEND;TZID=America/Los_Angeles:20270630T233000
DTSTAMP:20260421T145141
CREATED:20250520T074957Z
LAST-MODIFIED:20250520T075139Z
UID:10005268-1814387400-1814398200@boomerangpoker.com.au
SUMMARY:Wednesday Event Game 2
DESCRIPTION:
URL:https://boomerangpoker.com.au/event/wednesday-event-game-2/2027-06-30/
LOCATION:Banksia Hotel\, 288 Princess Hwy Banksia NSW\, Banksia\, Banksia\, NSW\, Australia
ATTACH;FMTTYPE=image/jpeg:https://boomerangpoker.com.au/wp-content/uploads/2025/05/image007.jpg
END:VEVENT
BEGIN:VEVENT
DTSTART;TZID=America/Los_Angeles:20270702T190000
DTEND;TZID=America/Los_Angeles:20270702T233000
DTSTAMP:20260421T145141
CREATED:20240212T112630Z
LAST-MODIFIED:20250520T075321Z
UID:10002535-1814554800-1814571000@boomerangpoker.com.au
SUMMARY:Friday Poker Game 1
DESCRIPTION:
URL:https://boomerangpoker.com.au/event/friday-poker/2027-07-02/
LOCATION:Banksia Hotel\, 288 Princess Hwy Banksia NSW\, Banksia\, Banksia\, NSW\, Australia
ATTACH;FMTTYPE=image/png:https://boomerangpoker.com.au/wp-content/uploads/2025/05/image008.png
END:VEVENT
BEGIN:VEVENT
DTSTART;TZID=America/Los_Angeles:20270702T203000
DTEND;TZID=America/Los_Angeles:20270702T233000
DTSTAMP:20260421T145141
CREATED:20250520T075436Z
LAST-MODIFIED:20250520T075436Z
UID:10005978-1814560200-1814571000@boomerangpoker.com.au
SUMMARY:Friday Poker Game 2
DESCRIPTION:
URL:https://boomerangpoker.com.au/event/friday-poker-game-2/2027-07-02/
LOCATION:Banksia Hotel\, 288 Princess Hwy Banksia NSW\, Banksia\, Banksia\, NSW\, Australia
ATTACH;FMTTYPE=image/png:https://boomerangpoker.com.au/wp-content/uploads/2025/05/image009.png
END:VEVENT
BEGIN:VEVENT
DTSTART;TZID=America/Los_Angeles:20270705T190000
DTEND;TZID=America/Los_Angeles:20270705T233000
DTSTAMP:20260421T145141
CREATED:20240212T112752Z
LAST-MODIFIED:20250520T074803Z
UID:10003584-1814814000-1814830200@boomerangpoker.com.au
SUMMARY:Monday Poker Game 1
DESCRIPTION:
URL:https://boomerangpoker.com.au/event/monday-poker/2027-07-05/
LOCATION:Banksia Hotel\, 288 Princess Hwy Banksia NSW\, Banksia\, Banksia\, NSW\, Australia
ATTACH;FMTTYPE=image/jpeg:https://boomerangpoker.com.au/wp-content/uploads/2025/05/image004.jpg
END:VEVENT
BEGIN:VEVENT
DTSTART;TZID=America/Los_Angeles:20270705T203000
DTEND;TZID=America/Los_Angeles:20270705T233000
DTSTAMP:20260421T145141
CREATED:20250520T073314Z
LAST-MODIFIED:20250520T074437Z
UID:10004562-1814819400-1814830200@boomerangpoker.com.au
SUMMARY:Monday Poker Game 2
DESCRIPTION:
URL:https://boomerangpoker.com.au/event/monday-poker-game-2/2027-07-05/
LOCATION:Banksia Hotel\, 288 Princess Hwy Banksia NSW\, Banksia\, Banksia\, NSW\, Australia
ATTACH;FMTTYPE=image/jpeg:https://boomerangpoker.com.au/wp-content/uploads/2025/05/image005.jpg
END:VEVENT
BEGIN:VEVENT
DTSTART;TZID=America/Los_Angeles:20270707T190000
DTEND;TZID=America/Los_Angeles:20270707T233000
DTSTAMP:20260421T145141
CREATED:20240212T111956Z
LAST-MODIFIED:20250520T074837Z
UID:10003329-1814986800-1815003000@boomerangpoker.com.au
SUMMARY:Wednesday Event Game 1
DESCRIPTION:
URL:https://boomerangpoker.com.au/event/club-mount-lewis/2027-07-07/
LOCATION:Banksia Hotel\, 288 Princess Hwy Banksia NSW\, Banksia\, Banksia\, NSW\, Australia
ATTACH;FMTTYPE=image/jpeg:https://boomerangpoker.com.au/wp-content/uploads/2025/05/image006.jpg
END:VEVENT
BEGIN:VEVENT
DTSTART;TZID=America/Los_Angeles:20270707T203000
DTEND;TZID=America/Los_Angeles:20270707T233000
DTSTAMP:20260421T145141
CREATED:20250520T074957Z
LAST-MODIFIED:20250520T075139Z
UID:10005269-1814992200-1815003000@boomerangpoker.com.au
SUMMARY:Wednesday Event Game 2
DESCRIPTION:
URL:https://boomerangpoker.com.au/event/wednesday-event-game-2/2027-07-07/
LOCATION:Banksia Hotel\, 288 Princess Hwy Banksia NSW\, Banksia\, Banksia\, NSW\, Australia
ATTACH;FMTTYPE=image/jpeg:https://boomerangpoker.com.au/wp-content/uploads/2025/05/image007.jpg
END:VEVENT
BEGIN:VEVENT
DTSTART;TZID=America/Los_Angeles:20270709T190000
DTEND;TZID=America/Los_Angeles:20270709T233000
DTSTAMP:20260421T145141
CREATED:20240212T112630Z
LAST-MODIFIED:20250520T075321Z
UID:10002536-1815159600-1815175800@boomerangpoker.com.au
SUMMARY:Friday Poker Game 1
DESCRIPTION:
URL:https://boomerangpoker.com.au/event/friday-poker/2027-07-09/
LOCATION:Banksia Hotel\, 288 Princess Hwy Banksia NSW\, Banksia\, Banksia\, NSW\, Australia
ATTACH;FMTTYPE=image/png:https://boomerangpoker.com.au/wp-content/uploads/2025/05/image008.png
END:VEVENT
BEGIN:VEVENT
DTSTART;TZID=America/Los_Angeles:20270709T203000
DTEND;TZID=America/Los_Angeles:20270709T233000
DTSTAMP:20260421T145141
CREATED:20250520T075436Z
LAST-MODIFIED:20250520T075436Z
UID:10005979-1815165000-1815175800@boomerangpoker.com.au
SUMMARY:Friday Poker Game 2
DESCRIPTION:
URL:https://boomerangpoker.com.au/event/friday-poker-game-2/2027-07-09/
LOCATION:Banksia Hotel\, 288 Princess Hwy Banksia NSW\, Banksia\, Banksia\, NSW\, Australia
ATTACH;FMTTYPE=image/png:https://boomerangpoker.com.au/wp-content/uploads/2025/05/image009.png
END:VEVENT
BEGIN:VEVENT
DTSTART;TZID=America/Los_Angeles:20270712T190000
DTEND;TZID=America/Los_Angeles:20270712T233000
DTSTAMP:20260421T145141
CREATED:20240212T112752Z
LAST-MODIFIED:20250520T074803Z
UID:10003585-1815418800-1815435000@boomerangpoker.com.au
SUMMARY:Monday Poker Game 1
DESCRIPTION:
URL:https://boomerangpoker.com.au/event/monday-poker/2027-07-12/
LOCATION:Banksia Hotel\, 288 Princess Hwy Banksia NSW\, Banksia\, Banksia\, NSW\, Australia
ATTACH;FMTTYPE=image/jpeg:https://boomerangpoker.com.au/wp-content/uploads/2025/05/image004.jpg
END:VEVENT
BEGIN:VEVENT
DTSTART;TZID=America/Los_Angeles:20270712T203000
DTEND;TZID=America/Los_Angeles:20270712T233000
DTSTAMP:20260421T145141
CREATED:20250520T073314Z
LAST-MODIFIED:20250520T074437Z
UID:10004563-1815424200-1815435000@boomerangpoker.com.au
SUMMARY:Monday Poker Game 2
DESCRIPTION:
URL:https://boomerangpoker.com.au/event/monday-poker-game-2/2027-07-12/
LOCATION:Banksia Hotel\, 288 Princess Hwy Banksia NSW\, Banksia\, Banksia\, NSW\, Australia
ATTACH;FMTTYPE=image/jpeg:https://boomerangpoker.com.au/wp-content/uploads/2025/05/image005.jpg
END:VEVENT
BEGIN:VEVENT
DTSTART;TZID=America/Los_Angeles:20270714T190000
DTEND;TZID=America/Los_Angeles:20270714T233000
DTSTAMP:20260421T145141
CREATED:20240212T111956Z
LAST-MODIFIED:20250520T074837Z
UID:10003330-1815591600-1815607800@boomerangpoker.com.au
SUMMARY:Wednesday Event Game 1
DESCRIPTION:
URL:https://boomerangpoker.com.au/event/club-mount-lewis/2027-07-14/
LOCATION:Banksia Hotel\, 288 Princess Hwy Banksia NSW\, Banksia\, Banksia\, NSW\, Australia
ATTACH;FMTTYPE=image/jpeg:https://boomerangpoker.com.au/wp-content/uploads/2025/05/image006.jpg
END:VEVENT
BEGIN:VEVENT
DTSTART;TZID=America/Los_Angeles:20270714T203000
DTEND;TZID=America/Los_Angeles:20270714T233000
DTSTAMP:20260421T145141
CREATED:20250520T074957Z
LAST-MODIFIED:20250520T075139Z
UID:10005270-1815597000-1815607800@boomerangpoker.com.au
SUMMARY:Wednesday Event Game 2
DESCRIPTION:
URL:https://boomerangpoker.com.au/event/wednesday-event-game-2/2027-07-14/
LOCATION:Banksia Hotel\, 288 Princess Hwy Banksia NSW\, Banksia\, Banksia\, NSW\, Australia
ATTACH;FMTTYPE=image/jpeg:https://boomerangpoker.com.au/wp-content/uploads/2025/05/image007.jpg
END:VEVENT
BEGIN:VEVENT
DTSTART;TZID=America/Los_Angeles:20270716T190000
DTEND;TZID=America/Los_Angeles:20270716T233000
DTSTAMP:20260421T145141
CREATED:20240212T112630Z
LAST-MODIFIED:20250520T075321Z
UID:10002537-1815764400-1815780600@boomerangpoker.com.au
SUMMARY:Friday Poker Game 1
DESCRIPTION:
URL:https://boomerangpoker.com.au/event/friday-poker/2027-07-16/
LOCATION:Banksia Hotel\, 288 Princess Hwy Banksia NSW\, Banksia\, Banksia\, NSW\, Australia
ATTACH;FMTTYPE=image/png:https://boomerangpoker.com.au/wp-content/uploads/2025/05/image008.png
END:VEVENT
BEGIN:VEVENT
DTSTART;TZID=America/Los_Angeles:20270716T203000
DTEND;TZID=America/Los_Angeles:20270716T233000
DTSTAMP:20260421T145141
CREATED:20250520T075436Z
LAST-MODIFIED:20250520T075436Z
UID:10005980-1815769800-1815780600@boomerangpoker.com.au
SUMMARY:Friday Poker Game 2
DESCRIPTION:
URL:https://boomerangpoker.com.au/event/friday-poker-game-2/2027-07-16/
LOCATION:Banksia Hotel\, 288 Princess Hwy Banksia NSW\, Banksia\, Banksia\, NSW\, Australia
ATTACH;FMTTYPE=image/png:https://boomerangpoker.com.au/wp-content/uploads/2025/05/image009.png
END:VEVENT
BEGIN:VEVENT
DTSTART;TZID=America/Los_Angeles:20270719T190000
DTEND;TZID=America/Los_Angeles:20270719T233000
DTSTAMP:20260421T145141
CREATED:20240212T112752Z
LAST-MODIFIED:20250520T074803Z
UID:10003586-1816023600-1816039800@boomerangpoker.com.au
SUMMARY:Monday Poker Game 1
DESCRIPTION:
URL:https://boomerangpoker.com.au/event/monday-poker/2027-07-19/
LOCATION:Banksia Hotel\, 288 Princess Hwy Banksia NSW\, Banksia\, Banksia\, NSW\, Australia
ATTACH;FMTTYPE=image/jpeg:https://boomerangpoker.com.au/wp-content/uploads/2025/05/image004.jpg
END:VEVENT
BEGIN:VEVENT
DTSTART;TZID=America/Los_Angeles:20270719T203000
DTEND;TZID=America/Los_Angeles:20270719T233000
DTSTAMP:20260421T145141
CREATED:20250520T073314Z
LAST-MODIFIED:20250520T074437Z
UID:10004564-1816029000-1816039800@boomerangpoker.com.au
SUMMARY:Monday Poker Game 2
DESCRIPTION:
URL:https://boomerangpoker.com.au/event/monday-poker-game-2/2027-07-19/
LOCATION:Banksia Hotel\, 288 Princess Hwy Banksia NSW\, Banksia\, Banksia\, NSW\, Australia
ATTACH;FMTTYPE=image/jpeg:https://boomerangpoker.com.au/wp-content/uploads/2025/05/image005.jpg
END:VEVENT
END:VCALENDAR